BEGIN:VCALENDAR
PRODID:IEH Veranstaltungen
VERSION:2.0
X-WR-CALNAME:IEH Veranstaltungen
NAME:IEH Veranstaltungen
REFRESH-INTERVAL;VALUE=DURATION:PT12H
X-PUBLISHED-TTL:PT12H
BEGIN:VTIMEZONE
TZID:Europe/Berlin
TZURL:http://tzurl.org/zoneinfo-outlook/Europe/Berlin
X-LIC-LOCATION:Europe/Berlin
BEGIN:DAYLIGHT
TZOFFSETFROM:+0100
TZOFFSETTO:+0200
TZNAME:CEST
DTSTART:19700329T020000
RRULE:FREQ=YEARLY;BYMONTH=3;BYDAY=-1SU
END:DAYLIGHT
BEGIN:STANDARD
TZOFFSETFROM:+0200
TZOFFSETTO:+0100
TZNAME:CET
DTSTART:19701025T030000
RRULE:FREQ=YEARLY;BYMONTH=10;BYDAY=-1SU
END:STANDARD
END:VTIMEZONE
BEGIN:VEVENT
UID: 61485
DTSTAMP:20260422T123732Z
SUMMARY:Seminarvortrag Herr Avid Alexander Mohammadi
X-ALT-DESC;FMTTYPE=text/html:<!DOCTYPE HTML PUBLIC "-//W3C//DTD HTML 
 3.2//EN"><HTML><HEAD><TITLE></TITLE></HEAD><BODY>Seminarvortrag Herr 
 Avid Alexander Mohammadi<br>KIT, Campus Süd, 30.36 IEH Raum 11, 
 Engesserstraße 11a, 76131 Karlsruhe<br><br><p>Implementierung einer 
 Power Hardware-in-the-Loop-Testumgebung zur Reproduktion von 
 Spannungs-qualit&auml;tsmerkmalen gem&auml;&szlig; DIN EN 
 50160</p><br></BODY></HTML>
DESCRIPTION: Seminarvortrag Herr Avid Alexander Mohammadi\nKIT, Campus
 Süd, 30.36 IEH Raum 11, Engesserstraße 11a, 76131
 Karlsruhe\n\n<p>Implementierung einer Power
 Hardware-in-the-Loop-Testumgebung zur Reproduktion von
 Spannungs-qualitätsmerkmalen gemäß DIN EN 50160</p>\n
DTSTART;TZID=Europe/Berlin:20260428T153000
DTEND;TZID=Europe/Berlin:20260428T160000
LOCATION:KIT, Campus Süd, 30.36 IEH Raum 11, Engesserstraße 11a, 76131
 Karlsruhe
END:VEVENT
BEGIN:VEVENT
UID: 61486
DTSTAMP:20260422T123732Z
SUMMARY:Pfingstexkursion 2026
X-ALT-DESC;FMTTYPE=text/html:<!DOCTYPE HTML PUBLIC "-//W3C//DTD HTML 
 3.2//EN"><HTML><HEAD><TITLE></TITLE></HEAD><BODY>Pfingstexkursion 
 2026<br>Winterthur (Schweiz), Ulm und Nürnberg<br><br><p>Alle zwei 
 Jahre veranstalten ETI und IEH abwechselnd eine studentische Exkursion. 
 F&uuml;r das Jahr 2026 hat das IEH in diesem Zusammenhang eine 
 Bildungsreise mit besonders vielseitigen Anlaufpunkten, wie etwa Hitachi 
 Energy oder Siemens Energy zusammengestellt. Eine Anmeldung erfolgt 
 &uuml;ber den entsprechenden ILIAS Kurs. </p><br></BODY></HTML>
DESCRIPTION: Pfingstexkursion 2026\nWinterthur (Schweiz), Ulm und
 Nürnberg\n\n<p>Alle zwei Jahre veranstalten ETI und IEH abwechselnd
 eine studentische Exkursion. Für das Jahr 2026 hat das IEH in diesem
 Zusammenhang eine Bildungsreise mit besonders vielseitigen
 Anlaufpunkten, wie etwa Hitachi Energy oder Siemens Energy
 zusammengestellt. Eine Anmeldung erfolgt über den entsprechenden ILIAS
 Kurs. </p>\n
DTSTART;TZID=Europe/Berlin:20260526
DTEND;TZID=Europe/Berlin:20260526T000000
LOCATION:Winterthur (Schweiz), Ulm und Nürnberg
END:VEVENT
END:VCALENDAR
