BEGIN:VCALENDAR
PRODID:KMB Veranstaltungen
VERSION:2.0
X-WR-CALNAME:KMB Veranstaltungen
NAME:KMB Veranstaltungen
REFRESH-INTERVAL;VALUE=DURATION:PT12H
X-PUBLISHED-TTL:PT12H
BEGIN:VTIMEZONE
TZID:Europe/Berlin
TZURL:http://tzurl.org/zoneinfo-outlook/Europe/Berlin
X-LIC-LOCATION:Europe/Berlin
BEGIN:DAYLIGHT
TZOFFSETFROM:+0100
TZOFFSETTO:+0200
TZNAME:CEST
DTSTART:19700329T020000
RRULE:FREQ=YEARLY;BYMONTH=3;BYDAY=-1SU
END:DAYLIGHT
BEGIN:STANDARD
TZOFFSETFROM:+0200
TZOFFSETTO:+0100
TZNAME:CET
DTSTART:19701025T030000
RRULE:FREQ=YEARLY;BYMONTH=10;BYDAY=-1SU
END:STANDARD
END:VTIMEZONE
BEGIN:VEVENT
UID: 60630
DTSTAMP:20260421T145546Z
SUMMARY:MBSR @WORK - Achtsamkeit am Arbeitsplatz: "Achtsamer Umgang mit dem
 Körper"
X-ALT-DESC;FMTTYPE=text/html:<!DOCTYPE HTML PUBLIC "-//W3C//DTD HTML 
 3.2//EN"><HTML><HEAD><TITLE></TITLE></HEAD><BODY>MBSR @WORK - 
 Achtsamkeit am Arbeitsplatz: "Achtsamer Umgang mit dem 
 Körper"<br>online via Zoom<br><br><p>Diese Seminarreihe ist eine 
 Einf&uuml;hrung in das Thema Achtsamkeit am Arbeitsplatz und basiert auf 
 dem MBSR-Konzept (Mindfulness based Stress Reduction) nach Prof. Dr. 
 John Kabat-Zinn.</p><br><br><p> </p><br><br><p>Jedes Online-Modul dauert 
 60 Minuten und kann einzeln oder als Seminarreihe besucht 
 werden.</p><br><br><p>Voraussetzungen: m&ouml;glichst ungest&ouml;rter 
 Raum oder Headset, PC mit Kamera</p><br><br><p> </p><br><br><p>Die Bitte 
 an Sie ist es p&uuml;nktlich, gerne auch ein paar Minuten fr&uuml;her 
 eingeloggt zu sein. Sie werden in das jeweilige Thema eingef&uuml;hrt 
 und praktizieren eine 20-min&uuml;tige Achtsamkeits&uuml;bung. Die 
 Referentin steht Ihnen f&uuml;r Fragen bez&uuml;glich des Themas und der 
 &Uuml;bungen zur Verf&uuml;gung.</p><br><br><p> </p><br><br><p> 
 </p><br><br><p><strong>3.Modul</strong></p><br><br><p> 
 </p><br><br><p>Erkennen eigener k&ouml;rperlicher Grenzen und 
 M&ouml;glichkeiten. <br /><br>Welche Stresssignale sendet mein 
 K&ouml;rper?</p><br><br><p> </p><br><br><p>Im K&ouml;rper Zuhause 
 sein.<br /><br><br /><br>20 Minuten Qi Gong am 
 Arbeitsplatz</p><br><br><p> </p><br><br><p>Anmeldung bei  
 bettina.werner@kit.edu</p><br></BODY></HTML>
DESCRIPTION: MBSR @WORK - Achtsamkeit am Arbeitsplatz: "Achtsamer Umgang
 mit dem Körper"\nonline via Zoom\n\n<p>Diese Seminarreihe ist eine
 Einführung in das Thema Achtsamkeit am Arbeitsplatz und basiert auf dem
 MBSR-Konzept (Mindfulness based Stress Reduction) nach Prof. Dr. John
 Kabat-Zinn.</p>\n\n<p> </p>\n\n<p>Jedes Online-Modul dauert 60 Minuten
 und kann einzeln oder als Seminarreihe besucht
 werden.</p>\n\n<p>Voraussetzungen: möglichst ungestörter Raum oder
 Headset, PC mit Kamera</p>\n\n<p> </p>\n\n<p>Die Bitte an Sie ist es
 pünktlich, gerne auch ein paar Minuten früher eingeloggt zu sein. Sie
 werden in das jeweilige Thema eingeführt und praktizieren eine
 20-minütige Achtsamkeitsübung. Die Referentin steht Ihnen für Fragen
 bezüglich des Themas und der Übungen zur Verfügung.</p>\n\n<p>
 </p>\n\n<p> </p>\n\n<p><strong>3.Modul</strong></p>\n\n<p>
 </p>\n\n<p>Erkennen eigener körperlicher Grenzen und Möglichkeiten.
 <br />\nWelche Stresssignale sendet mein Körper?</p>\n\n<p>
 </p>\n\n<p>Im Körper Zuhause sein.<br />\n<br />\n20 Minuten Qi Gong am
 Arbeitsplatz</p>\n\n<p> </p>\n\n<p>Anmeldung bei 
 bettina.werner@kit.edu</p>\n
DTSTART;TZID=Europe/Berlin:20260422T110000
DTEND;TZID=Europe/Berlin:20260422T120000
LOCATION:online via Zoom
END:VEVENT
BEGIN:VEVENT
UID: 60631
DTSTAMP:20260421T145546Z
SUMMARY:MBSR @WORK - Achtsamkeit am Arbeitsplatz: "Achtsamer Umgang mit Stress"
X-ALT-DESC;FMTTYPE=text/html:<!DOCTYPE HTML PUBLIC "-//W3C//DTD HTML 
 3.2//EN"><HTML><HEAD><TITLE></TITLE></HEAD><BODY>MBSR @WORK - 
 Achtsamkeit am Arbeitsplatz: "Achtsamer Umgang mit Stress"<br>online via 
 Zoom<br><br><p>Diese Seminarreihe ist eine Einf&uuml;hrung in das Thema 
 Achtsamkeit am Arbeitsplatz und basiert auf dem MBSR-Konzept 
 (Mindfulness based Stress Reduction) nach Prof. Dr. John 
 Kabat-Zinn.</p><br><br><p> </p><br><br><p>Jedes Online-Modul dauert 60 
 Minuten und kann einzeln oder als Seminarreihe besucht 
 werden.</p><br><br><p>Voraussetzungen: m&ouml;glichst ungest&ouml;rter 
 Raum oder Headset, PC mit Kamera</p><br><br><p> </p><br><br><p>Die Bitte 
 an Sie ist es p&uuml;nktlich, gerne auch ein paar Minuten fr&uuml;her 
 eingeloggt zu sein. Sie werden in das jeweilige Thema eingef&uuml;hrt 
 und praktizieren eine 20-min&uuml;tige Achtsamkeits&uuml;bung. Die 
 Referentin steht Ihnen f&uuml;r Fragen bez&uuml;glich des Themas und der 
 &Uuml;bungen zur Verf&uuml;gung.</p><br><br><p> </p><br><br><p> 
 </p><br><br><p><strong>4.Modul</strong></p><br><br><p> 
 </p><br><br><p>Was ist Stress?<br /><br>Eigene Stressreaktionen kennen 
 lernen und<br /><br>die Reiz-Reaktionsspirale unterbrechen zu lernen.<br 
 /><br><br /><br>Achtsamkeit im Stress.</p><br><br><p> </p><br><br><p>20 
 Minuten Gehmeditation</p><br><br><p> </p><br><br><p>Anmeldung bei  
 bettina.werner@kit.edu</p><br></BODY></HTML>
DESCRIPTION: MBSR @WORK - Achtsamkeit am Arbeitsplatz: "Achtsamer Umgang
 mit Stress"\nonline via Zoom\n\n<p>Diese Seminarreihe ist eine
 Einführung in das Thema Achtsamkeit am Arbeitsplatz und basiert auf dem
 MBSR-Konzept (Mindfulness based Stress Reduction) nach Prof. Dr. John
 Kabat-Zinn.</p>\n\n<p> </p>\n\n<p>Jedes Online-Modul dauert 60 Minuten
 und kann einzeln oder als Seminarreihe besucht
 werden.</p>\n\n<p>Voraussetzungen: möglichst ungestörter Raum oder
 Headset, PC mit Kamera</p>\n\n<p> </p>\n\n<p>Die Bitte an Sie ist es
 pünktlich, gerne auch ein paar Minuten früher eingeloggt zu sein. Sie
 werden in das jeweilige Thema eingeführt und praktizieren eine
 20-minütige Achtsamkeitsübung. Die Referentin steht Ihnen für Fragen
 bezüglich des Themas und der Übungen zur Verfügung.</p>\n\n<p>
 </p>\n\n<p> </p>\n\n<p><strong>4.Modul</strong></p>\n\n<p>
 </p>\n\n<p>Was ist Stress?<br />\nEigene Stressreaktionen kennen lernen
 und<br />\ndie Reiz-Reaktionsspirale unterbrechen zu lernen.<br />\n<br
 />\nAchtsamkeit im Stress.</p>\n\n<p> </p>\n\n<p>20 Minuten
 Gehmeditation</p>\n\n<p> </p>\n\n<p>Anmeldung bei 
 bettina.werner@kit.edu</p>\n
DTSTART;TZID=Europe/Berlin:20260506T110000
DTEND;TZID=Europe/Berlin:20260506T120000
LOCATION:online via Zoom
END:VEVENT
BEGIN:VEVENT
UID: 60632
DTSTAMP:20260421T145546Z
SUMMARY:MBSR @WORK - Achtsamkeit am Arbeitsplatz: "Achtsamkeit gegenüber
 Gedanken, die Stress verschärfen "
X-ALT-DESC;FMTTYPE=text/html:<!DOCTYPE HTML PUBLIC "-//W3C//DTD HTML 
 3.2//EN"><HTML><HEAD><TITLE></TITLE></HEAD><BODY>MBSR @WORK - 
 Achtsamkeit am Arbeitsplatz: "Achtsamkeit gegenüber Gedanken, die 
 Stress verschärfen "<br>online via Zoom<br><br><p>Diese Seminarreihe 
 ist eine Einf&uuml;hrung in das Thema Achtsamkeit am Arbeitsplatz und 
 basiert auf dem MBSR-Konzept (Mindfulness based Stress Reduction) nach 
 Prof. Dr. John Kabat-Zinn.</p><br><br><p> </p><br><br><p>Jedes 
 Online-Modul dauert 60 Minuten und kann einzeln oder als Seminarreihe 
 besucht werden.</p><br><br><p>Voraussetzungen: m&ouml;glichst 
 ungest&ouml;rter Raum oder Headset, PC mit Kamera</p><br><br><p> 
 </p><br><br><p>Die Bitte an Sie ist es p&uuml;nktlich, gerne auch ein 
 paar Minuten fr&uuml;her eingeloggt zu sein. Sie werden in das jeweilige 
 Thema eingef&uuml;hrt und praktizieren eine 20-min&uuml;tige 
 Achtsamkeits&uuml;bung. Die Referentin steht Ihnen f&uuml;r Fragen 
 bez&uuml;glich des Themas und der &Uuml;bungen zur 
 Verf&uuml;gung.</p><br><br><p> </p><br><br><p> </p><br><br><p><strong>5. 
 Modul            </strong></p><br><br><p><strong>          
 </strong></p><br><br><p>&bdquo;Mein ganzes Leben ist voller 
 Katastrophen,<br /><br>die meisten haben nie stattgefunden&ldquo; (Mark 
 Twain)</p><br><br><p> </p><br><br><p>Die Bedeutung von Gedanken bei 
 Stressentwicklung.<br /><br><br /><br>20 Minuten Sitzmeditation mit 
 Achtsamkeit auf die Gedanken /<br /><br>Umgang mit Gedanken, die Stress 
 erzeugen</p><br><br><p> </p><br><br><p>Anmeldung bei  
 bettina.werner@kit.edu</p><br></BODY></HTML>
DESCRIPTION: MBSR @WORK - Achtsamkeit am Arbeitsplatz: "Achtsamkeit
 gegenüber Gedanken, die Stress verschärfen "\nonline via
 Zoom\n\n<p>Diese Seminarreihe ist eine Einführung in das Thema
 Achtsamkeit am Arbeitsplatz und basiert auf dem MBSR-Konzept
 (Mindfulness based Stress Reduction) nach Prof. Dr. John
 Kabat-Zinn.</p>\n\n<p> </p>\n\n<p>Jedes Online-Modul dauert 60 Minuten
 und kann einzeln oder als Seminarreihe besucht
 werden.</p>\n\n<p>Voraussetzungen: möglichst ungestörter Raum oder
 Headset, PC mit Kamera</p>\n\n<p> </p>\n\n<p>Die Bitte an Sie ist es
 pünktlich, gerne auch ein paar Minuten früher eingeloggt zu sein. Sie
 werden in das jeweilige Thema eingeführt und praktizieren eine
 20-minütige Achtsamkeitsübung. Die Referentin steht Ihnen für Fragen
 bezüglich des Themas und der Übungen zur Verfügung.</p>\n\n<p>
 </p>\n\n<p> </p>\n\n<p><strong>5. Modul           
 </strong></p>\n\n<p><strong>          </strong></p>\n\n<p>„Mein ganzes
 Leben ist voller Katastrophen,<br />\ndie meisten haben nie
 stattgefunden“ (Mark Twain)</p>\n\n<p> </p>\n\n<p>Die Bedeutung von
 Gedanken bei Stressentwicklung.<br />\n<br />\n20 Minuten Sitzmeditation
 mit Achtsamkeit auf die Gedanken /<br />\nUmgang mit Gedanken, die
 Stress erzeugen</p>\n\n<p> </p>\n\n<p>Anmeldung bei 
 bettina.werner@kit.edu</p>\n
DTSTART;TZID=Europe/Berlin:20260520T110000
DTEND;TZID=Europe/Berlin:20260520T120000
LOCATION:online via Zoom
END:VEVENT
BEGIN:VEVENT
UID: 60633
DTSTAMP:20260421T145546Z
SUMMARY:MBSR @WORK - Achtsamkeit am Arbeitsplatz: "Achtsamer Umgang mit
 schwierigen Emotionen"
X-ALT-DESC;FMTTYPE=text/html:<!DOCTYPE HTML PUBLIC "-//W3C//DTD HTML 
 3.2//EN"><HTML><HEAD><TITLE></TITLE></HEAD><BODY>MBSR @WORK - 
 Achtsamkeit am Arbeitsplatz: "Achtsamer Umgang mit schwierigen 
 Emotionen"<br>online via Zoom<br><br><p>Diese Seminarreihe ist eine 
 Einf&uuml;hrung in das Thema Achtsamkeit am Arbeitsplatz und basiert auf 
 dem MBSR-Konzept (Mindfulness based Stress Reduction) nach Prof. Dr. 
 John Kabat-Zinn.</p><br><br><p> </p><br><br><p>Jedes Online-Modul dauert 
 60 Minuten und kann einzeln oder als Seminarreihe besucht 
 werden.</p><br><br><p>Voraussetzungen: m&ouml;glichst ungest&ouml;rter 
 Raum oder Headset, PC mit Kamera</p><br><br><p> </p><br><br><p>Die Bitte 
 an Sie ist es p&uuml;nktlich, gerne auch ein paar Minuten fr&uuml;her 
 eingeloggt zu sein. Sie werden in das jeweilige Thema eingef&uuml;hrt 
 und praktizieren eine 20-min&uuml;tige Achtsamkeits&uuml;bung. Die 
 Referentin steht Ihnen f&uuml;r Fragen bez&uuml;glich des Themas und der 
 &Uuml;bungen zur Verf&uuml;gung.</p><br><br><p> </p><br><br><p> 
 </p><br><br><p><strong>6.Modul</strong></p><br><br><p> 
 </p><br><br><p>Nicht &bdquo;ich bin meine Gef&uuml;hle&ldquo; sondern 
 &bdquo;ich habe, da sind Gef&uuml;hle&ldquo;.</p><br><br><p> 
 </p><br><br><p>Schwierige Gef&uuml;hle erkennen lernen, zu 
 identifizieren,<br /><br>um die unmittelbare Identifikation unterbrechen 
 zu k&ouml;nnen,<br /><br>um angemessener reagieren zu lernen.<br 
 /><br><br /><br>20 Minuten Sitzmeditation &uuml;ber das Thema 
 Achtsamkeit bei schwierigen Gef&uuml;hlen</p><br><br><p> 
 </p><br><br><p>Anmeldung bei  
 bettina.werner@kit.edu</p><br></BODY></HTML>
DESCRIPTION: MBSR @WORK - Achtsamkeit am Arbeitsplatz: "Achtsamer Umgang
 mit schwierigen Emotionen"\nonline via Zoom\n\n<p>Diese Seminarreihe ist
 eine Einführung in das Thema Achtsamkeit am Arbeitsplatz und basiert
 auf dem MBSR-Konzept (Mindfulness based Stress Reduction) nach Prof. Dr.
 John Kabat-Zinn.</p>\n\n<p> </p>\n\n<p>Jedes Online-Modul dauert 60
 Minuten und kann einzeln oder als Seminarreihe besucht
 werden.</p>\n\n<p>Voraussetzungen: möglichst ungestörter Raum oder
 Headset, PC mit Kamera</p>\n\n<p> </p>\n\n<p>Die Bitte an Sie ist es
 pünktlich, gerne auch ein paar Minuten früher eingeloggt zu sein. Sie
 werden in das jeweilige Thema eingeführt und praktizieren eine
 20-minütige Achtsamkeitsübung. Die Referentin steht Ihnen für Fragen
 bezüglich des Themas und der Übungen zur Verfügung.</p>\n\n<p>
 </p>\n\n<p> </p>\n\n<p><strong>6.Modul</strong></p>\n\n<p>
 </p>\n\n<p>Nicht „ich bin meine Gefühle“ sondern „ich habe, da
 sind Gefühle“.</p>\n\n<p> </p>\n\n<p>Schwierige Gefühle erkennen
 lernen, zu identifizieren,<br />\num die unmittelbare Identifikation
 unterbrechen zu können,<br />\num angemessener reagieren zu lernen.<br
 />\n<br />\n20 Minuten Sitzmeditation über das Thema Achtsamkeit bei
 schwierigen Gefühlen</p>\n\n<p> </p>\n\n<p>Anmeldung bei 
 bettina.werner@kit.edu</p>\n
DTSTART;TZID=Europe/Berlin:20260610T110000
DTEND;TZID=Europe/Berlin:20260610T120000
LOCATION:online via Zoom
END:VEVENT
BEGIN:VEVENT
UID: 60634
DTSTAMP:20260421T145546Z
SUMMARY:MBSR @WORK - Achtsamkeit am Arbeitsplatz: "Achtsame Kommunikation"
X-ALT-DESC;FMTTYPE=text/html:<!DOCTYPE HTML PUBLIC "-//W3C//DTD HTML 
 3.2//EN"><HTML><HEAD><TITLE></TITLE></HEAD><BODY>MBSR @WORK - 
 Achtsamkeit am Arbeitsplatz: "Achtsame Kommunikation"<br>online via 
 Zoom<br><br><p>Diese Seminarreihe ist eine Einf&uuml;hrung in das Thema 
 Achtsamkeit am Arbeitsplatz und basiert auf dem MBSR-Konzept 
 (Mindfulness based Stress Reduction) nach Prof. Dr. John 
 Kabat-Zinn.</p><br><br><p> </p><br><br><p>Jedes Online-Modul dauert 60 
 Minuten und kann einzeln oder als Seminarreihe besucht 
 werden.</p><br><br><p>Voraussetzungen: m&ouml;glichst ungest&ouml;rter 
 Raum oder Headset, PC mit Kamera</p><br><br><p> </p><br><br><p>Die Bitte 
 an Sie ist es p&uuml;nktlich, gerne auch ein paar Minuten fr&uuml;her 
 eingeloggt zu sein. Sie werden in das jeweilige Thema eingef&uuml;hrt 
 und praktizieren eine 20-min&uuml;tige Achtsamkeits&uuml;bung. Die 
 Referentin steht Ihnen f&uuml;r Fragen bez&uuml;glich des Themas und der 
 &Uuml;bungen zur Verf&uuml;gung.</p><br><br><p> </p><br><br><p> 
 </p><br><br><p><strong>7.Modul</strong></p><br><br><p> 
 </p><br><br><p>Was hei&szlig;t es achtsam im Gespr&auml;ch zu sein?<br 
 /><br>Einf&uuml;hrung in die Wechselwirkungsacht in der 
 Kommunikation.</p><br><br><p> </p><br><br><p>20 Minuten 
 Gehmeditation</p><br><br><p> </p><br><br><p>Anmeldung bei  
 bettina.werner@kit.edu</p><br></BODY></HTML>
DESCRIPTION: MBSR @WORK - Achtsamkeit am Arbeitsplatz: "Achtsame
 Kommunikation"\nonline via Zoom\n\n<p>Diese Seminarreihe ist eine
 Einführung in das Thema Achtsamkeit am Arbeitsplatz und basiert auf dem
 MBSR-Konzept (Mindfulness based Stress Reduction) nach Prof. Dr. John
 Kabat-Zinn.</p>\n\n<p> </p>\n\n<p>Jedes Online-Modul dauert 60 Minuten
 und kann einzeln oder als Seminarreihe besucht
 werden.</p>\n\n<p>Voraussetzungen: möglichst ungestörter Raum oder
 Headset, PC mit Kamera</p>\n\n<p> </p>\n\n<p>Die Bitte an Sie ist es
 pünktlich, gerne auch ein paar Minuten früher eingeloggt zu sein. Sie
 werden in das jeweilige Thema eingeführt und praktizieren eine
 20-minütige Achtsamkeitsübung. Die Referentin steht Ihnen für Fragen
 bezüglich des Themas und der Übungen zur Verfügung.</p>\n\n<p>
 </p>\n\n<p> </p>\n\n<p><strong>7.Modul</strong></p>\n\n<p>
 </p>\n\n<p>Was heißt es achtsam im Gespräch zu sein?<br
 />\nEinführung in die Wechselwirkungsacht in der
 Kommunikation.</p>\n\n<p> </p>\n\n<p>20 Minuten Gehmeditation</p>\n\n<p>
 </p>\n\n<p>Anmeldung bei  bettina.werner@kit.edu</p>\n
DTSTART;TZID=Europe/Berlin:20260701T110000
DTEND;TZID=Europe/Berlin:20260701T120000
LOCATION:online via Zoom
END:VEVENT
BEGIN:VEVENT
UID: 60635
DTSTAMP:20260421T145546Z
SUMMARY:MBSR @WORK - Achtsamkeit am Arbeitsplatz: "Für sich Sorge tragen"
X-ALT-DESC;FMTTYPE=text/html:<!DOCTYPE HTML PUBLIC "-//W3C//DTD HTML 
 3.2//EN"><HTML><HEAD><TITLE></TITLE></HEAD><BODY>MBSR @WORK - 
 Achtsamkeit am Arbeitsplatz: "Für sich Sorge tragen"<br>online via 
 Zoom<br><br><p>Diese Seminarreihe ist eine Einf&uuml;hrung in das Thema 
 Achtsamkeit am Arbeitsplatz und basiert auf dem MBSR-Konzept 
 (Mindfulness based Stress Reduction) nach Prof. Dr. John 
 Kabat-Zinn.</p><br><br><p> </p><br><br><p>Jedes Online-Modul dauert 60 
 Minuten und kann einzeln oder als Seminarreihe besucht 
 werden.</p><br><br><p>Voraussetzungen: m&ouml;glichst ungest&ouml;rter 
 Raum oder Headset, PC mit Kamera</p><br><br><p> </p><br><br><p>Die Bitte 
 an Sie ist es p&uuml;nktlich, gerne auch ein paar Minuten fr&uuml;her 
 eingeloggt zu sein. Sie werden in das jeweilige Thema eingef&uuml;hrt 
 und praktizieren eine 20-min&uuml;tige Achtsamkeits&uuml;bung. Die 
 Referentin steht Ihnen f&uuml;r Fragen bez&uuml;glich des Themas und der 
 &Uuml;bungen zur Verf&uuml;gung.</p><br><br><p> </p><br><br><p> 
 </p><br><br><p><strong>8.Modul</strong></p><br><br><p> 
 </p><br><br><p>Wie kann ich Achtsamkeit weiter in mein Leben /<br 
 /><br>an den Arbeitsplatz integrieren. Thema 
 Selbstf&uuml;rsorge.</p><br><br><p> </p><br><br><p>20 Minuten 
 Selbstmassage nach der traditionellen<br /><br>chinesischen 
 Medizin</p><br><br><p> </p><br><br><p>Anmeldung bei <a 
 href="mailto:bettina.werner@kit.edu">bettina.werner@kit.edu</a></p><br>< 
 /BODY></HTML>
DESCRIPTION: MBSR @WORK - Achtsamkeit am Arbeitsplatz: "Für sich Sorge
 tragen"\nonline via Zoom\n\n<p>Diese Seminarreihe ist eine Einführung
 in das Thema Achtsamkeit am Arbeitsplatz und basiert auf dem
 MBSR-Konzept (Mindfulness based Stress Reduction) nach Prof. Dr. John
 Kabat-Zinn.</p>\n\n<p> </p>\n\n<p>Jedes Online-Modul dauert 60 Minuten
 und kann einzeln oder als Seminarreihe besucht
 werden.</p>\n\n<p>Voraussetzungen: möglichst ungestörter Raum oder
 Headset, PC mit Kamera</p>\n\n<p> </p>\n\n<p>Die Bitte an Sie ist es
 pünktlich, gerne auch ein paar Minuten früher eingeloggt zu sein. Sie
 werden in das jeweilige Thema eingeführt und praktizieren eine
 20-minütige Achtsamkeitsübung. Die Referentin steht Ihnen für Fragen
 bezüglich des Themas und der Übungen zur Verfügung.</p>\n\n<p>
 </p>\n\n<p> </p>\n\n<p><strong>8.Modul</strong></p>\n\n<p>
 </p>\n\n<p>Wie kann ich Achtsamkeit weiter in mein Leben /<br />\nan den
 Arbeitsplatz integrieren. Thema Selbstfürsorge.</p>\n\n<p>
 </p>\n\n<p>20 Minuten Selbstmassage nach der traditionellen<br
 />\nchinesischen Medizin</p>\n\n<p> </p>\n\n<p>Anmeldung bei <a
 href="mailto:bettina.werner@kit.edu">bettina.werner@kit.edu</a></p>\n
DTSTART;TZID=Europe/Berlin:20260729T110000
DTEND;TZID=Europe/Berlin:20260729T120000
LOCATION:online via Zoom
END:VEVENT
END:VCALENDAR
