BEGIN:VCALENDAR
PRODID:Veranstaltungen Zentrum Mensch und Technik
VERSION:2.0
X-WR-CALNAME:Veranstaltungen Zentrum Mensch und Technik
NAME:Veranstaltungen Zentrum Mensch und Technik
REFRESH-INTERVAL;VALUE=DURATION:PT12H
X-PUBLISHED-TTL:PT12H
BEGIN:VTIMEZONE
TZID:Europe/Berlin
TZURL:http://tzurl.org/zoneinfo-outlook/Europe/Berlin
X-LIC-LOCATION:Europe/Berlin
BEGIN:DAYLIGHT
TZOFFSETFROM:+0100
TZOFFSETTO:+0200
TZNAME:CEST
DTSTART:19700329T020000
RRULE:FREQ=YEARLY;BYMONTH=3;BYDAY=-1SU
END:DAYLIGHT
BEGIN:STANDARD
TZOFFSETFROM:+0200
TZOFFSETTO:+0100
TZNAME:CET
DTSTART:19701025T030000
RRULE:FREQ=YEARLY;BYMONTH=10;BYDAY=-1SU
END:STANDARD
END:VTIMEZONE
BEGIN:VEVENT
UID: 60698
DTSTAMP:20260424T043931Z
SUMMARY:OPEN HOUSE - Space to Create
X-ALT-DESC;FMTTYPE=text/html:<!DOCTYPE HTML PUBLIC "-//W3C//DTD HTML 
 3.2//EN"><HTML><HEAD><TITLE></TITLE></HEAD><BODY>OPEN HOUSE - Space to 
 Create<br>TRIANGEL Transfer | Kultur | Raum, Kaiserstraße 93, , 
 Karlsruhe 76133<br><br><p>Immer mittwochs am Community Day &ouml;ffnet 
 das TRIANGEL seine T&uuml;ren.<br /><br>Mittwochs ist bei uns Community 
 Day und an diesem Tag &ouml;ffnen wir bei Open House von 9 bis 17 Uhr 
 unsere T&uuml;ren f&uuml;r Dich.</p><br><br><p><br /><br>Kommt vorbei 
 und trefft neue Leute in gem&uuml;tlicher Atmosph&auml;re zum 
 Co-Working, Gedankenaustausch oder f&uuml;r einen Tapetenwechsel, um 
 eure Ideen, Themen und Visionen weiterzuentwickeln.</p><br><br><p><br 
 /><br>Damit Euren Gehirnzellen nicht die Energie ausgeht, k&ouml;nnt Ihr 
 Euch beim intro CAF&Eacute; nebenan mit Kaffee oder leckeren Snacks 
 versorgen</p><br><br><p><br /><br>Unser Ziel ist es, Euch einen Raum 
 f&uuml;r gute Ideen und kollaborative Prozesse zu bieten und dadurch, 
 als sich gegenseitig inspirierende Community, gemeinsam zu 
 wachsen.</p><br><br><p><br /><br>Ihr braucht einen Ort, um euer Start-Up 
 weiterzuentwickeln? Euch fehlen noch Teilnehmerinnen und Teilnehmer 
 f&uuml;r Eure Umfrage? Ihr wollt einen abwechslungsreichen Arbeitsplatz? 
 Oder Ihr m&ouml;chtet Euch einfach mal wieder mit kreativen Menschen 
 unterhalten?</p><br><br><p><br /><br>Dann seid Ihr im OPEN HOUSE genau 
 richtig. Hier habt Ihr die M&ouml;glichkeit an Gruppentischen Eure Ideen 
 zu teilen, Euch bei einem Kaffee an der frischen Luft auszutauschen oder 
 konzentriert an Einzelpl&auml;tzen zu arbeiten.</p><br><br><p><br 
 /><br>Paradies Found jeden Mittwoch bei Open HOUSE erleben!<br /><br>Die 
 Stadtoper Paradise Found des Badischen Staatstheater w&auml;chst und 
 rankt sich mehr und mehr durch Karlsruhe! In mittlerweile &uuml;ber 100 
 Gespr&auml;chen haben sie die Karlsruherinnen und Karlsruher gefragt: 
 ?Wo ist Dein Paradies?? Aus den vielen kleinen Sch&auml;tzen, die ihnen 
 dabei begegnet sind, sind kleine Kunstwerke entstanden ? einzigartig und 
 vielf&auml;ltig wie die Geschichten, die ihnen zugrunde 
 liegen.</p><br><br><p><br /><br>Du hast die Gelegenheit, die dritte 
 Episode Unsere kleine Kneipe der Mini-Oper im TRIANGEL zu erleben. 
 Manche Stammg&auml;ste der kleinen Kneipe kommen nach der Vorlesung, 
 andere nach der Scheidung - in dieser ganz besonderen Stadtteilkneipe in 
 der Karlsruher S&uuml;dstadt spielen sich ganze Leben ab. Jede und jeder 
 ist willkommen. Ihr Wirt erz&auml;hlt uns, was die kleine Kneipe seit 60 
 Jahren so einzigartig macht und warum er sie nie wieder hergeben 
 w&uuml;rde.</p><br><br><p><br /><br>Du hast die Chance, sie jeden 
 Mittwoch beim Open House in der Werkstatt zu 
 erleben.</p><br></BODY></HTML>
DESCRIPTION: OPEN HOUSE - Space to Create\nTRIANGEL Transfer | Kultur |
 Raum, Kaiserstraße 93, , Karlsruhe 76133\n\n<p>Immer mittwochs am
 Community Day öffnet das TRIANGEL seine Türen.<br />\nMittwochs ist
 bei uns Community Day und an diesem Tag öffnen wir bei Open House von 9
 bis 17 Uhr unsere Türen für Dich.</p>\n\n<p><br />\nKommt vorbei und
 trefft neue Leute in gemütlicher Atmosphäre zum Co-Working,
 Gedankenaustausch oder für einen Tapetenwechsel, um eure Ideen, Themen
 und Visionen weiterzuentwickeln.</p>\n\n<p><br />\nDamit Euren
 Gehirnzellen nicht die Energie ausgeht, könnt Ihr Euch beim intro CAFÉ
 nebenan mit Kaffee oder leckeren Snacks versorgen</p>\n\n<p><br
 />\nUnser Ziel ist es, Euch einen Raum für gute Ideen und kollaborative
 Prozesse zu bieten und dadurch, als sich gegenseitig inspirierende
 Community, gemeinsam zu wachsen.</p>\n\n<p><br />\nIhr braucht einen
 Ort, um euer Start-Up weiterzuentwickeln? Euch fehlen noch
 Teilnehmerinnen und Teilnehmer für Eure Umfrage? Ihr wollt einen
 abwechslungsreichen Arbeitsplatz? Oder Ihr möchtet Euch einfach mal
 wieder mit kreativen Menschen unterhalten?</p>\n\n<p><br />\nDann seid
 Ihr im OPEN HOUSE genau richtig. Hier habt Ihr die Möglichkeit an
 Gruppentischen Eure Ideen zu teilen, Euch bei einem Kaffee an der
 frischen Luft auszutauschen oder konzentriert an Einzelplätzen zu
 arbeiten.</p>\n\n<p><br />\nParadies Found jeden Mittwoch bei Open HOUSE
 erleben!<br />\nDie Stadtoper Paradise Found des Badischen Staatstheater
 wächst und rankt sich mehr und mehr durch Karlsruhe! In mittlerweile
 über 100 Gesprächen haben sie die Karlsruherinnen und Karlsruher
 gefragt: ?Wo ist Dein Paradies?? Aus den vielen kleinen Schätzen, die
 ihnen dabei begegnet sind, sind kleine Kunstwerke entstanden ?
 einzigartig und vielfältig wie die Geschichten, die ihnen zugrunde
 liegen.</p>\n\n<p><br />\nDu hast die Gelegenheit, die dritte Episode
 Unsere kleine Kneipe der Mini-Oper im TRIANGEL zu erleben. Manche
 Stammgäste der kleinen Kneipe kommen nach der Vorlesung, andere nach
 der Scheidung - in dieser ganz besonderen Stadtteilkneipe in der
 Karlsruher Südstadt spielen sich ganze Leben ab. Jede und jeder ist
 willkommen. Ihr Wirt erzählt uns, was die kleine Kneipe seit 60 Jahren
 so einzigartig macht und warum er sie nie wieder hergeben
 würde.</p>\n\n<p><br />\nDu hast die Chance, sie jeden Mittwoch beim
 Open House in der Werkstatt zu erleben.</p>\n
DTSTART;TZID=Europe/Berlin:20260429T090000
DTEND;TZID=Europe/Berlin:20260429T170000
LOCATION:TRIANGEL Transfer | Kultur | Raum, Kaiserstraße 93, ,
 Karlsruhe 76133
END:VEVENT
BEGIN:VEVENT
UID: 60012
DTSTAMP:20260424T043931Z
SUMMARY:ARRTI-Sprechstunde
X-ALT-DESC;FMTTYPE=text/html:<!DOCTYPE HTML PUBLIC "-//W3C//DTD HTML 
 3.2//EN"><HTML><HEAD><TITLE></TITLE></HEAD><BODY>ARRTI-Sprechstunde<br>D 
 ouglasstraße 24, 2. OG, Raum 204 oder online, 76133 
 Karlsruhe<br><br><p>Sie haben Fragen zu <strong>ARRTI</strong>, unseren 
 <strong>Angeboten</strong> oder zu 
 <strong>Kooperationsm&ouml;glichkeiten</strong>?<br /><br>Dann besuchen 
 Sie unsere monatliche <strong>ARRTI-Sprechstunde</strong>!<br /><br> 
 </p><br><br><p>&#128197; <strong>Wann:</strong> Jeder <strong>erste 
 Mittwoch im Monat</strong>, 9:00&ndash;10:00 Uhr<br /><br>&#128205; 
 <strong>Wo:</strong> Karlsruhe, Douglasstr. 24, 2. OG, <strong>Raum 
 204</strong> oder <strong><a 
 href="https://kit-lecture.zoom-x.de/j/62725973413?pwd=XkUvenMrCaNbCS3K00 
 27U5S9oxwSbT.1">online</a></strong></p><br><br><p><br /><br>Die 
 Sprechstunde richtet sich an alle am KIT: <strong>Studierende, Lehrende, 
 Forschende und Gr&uuml;nder:innen.</strong></p><br><br><p><br 
 /><br>Nutzen Sie die Gelegenheit, um mit uns ins Gespr&auml;ch zu kommen 
 &uuml;ber:<br /><br>&bull; Fragen zu bestehenden ARRTI-Lehrangeboten<br 
 /><br>&bull; M&ouml;glichkeiten zur Integration zugeschnittener Module 
 oder Veranstaltungen in Ihren Studiengang<br /><br>&bull; Einbindung von 
 ARRTI-Angeboten beispielsweise in Ihre Lehrveranstaltung, 
 Graduiertenprogramme oder Forschungsgruppe<br /><br>&bull; 
 Unterst&uuml;tzung bei der ethischen Reflexion Ihrer Forschung und der 
 Vermittlung entsprechender Ansprechpartner:innen<br /><br>&bull; 
 Kooperationen in Drittmittelantr&auml;gen</p><br><br><p><br 
 /><br>&#9749; W&auml;hrend der Sprechstunde stehen <strong>Kaffee, Tee 
 und Kekse</strong> bereit &ndash; wir freuen uns auf den Austausch in 
 angenehmer Atmosph&auml;re!</p><br><br><p><br /><br>&#128233; 
 <strong>Anmeldung:</strong> per E-Mail an <a 
 href="mailto:nico.braehler@kit.edu">nico.braehler@kit.edu</a> oder 
 einfach spontan vorbeikommen.</p><br></BODY></HTML>
DESCRIPTION: ARRTI-Sprechstunde\nDouglasstraße 24, 2. OG, Raum 204 oder
 online, 76133 Karlsruhe\n\n<p>Sie haben Fragen zu
 <strong>ARRTI</strong>, unseren <strong>Angeboten</strong> oder zu
 <strong>Kooperationsmöglichkeiten</strong>?<br />\nDann besuchen Sie
 unsere monatliche <strong>ARRTI-Sprechstunde</strong>!<br />\n
 </p>\n\n<p>📅 <strong>Wann:</strong> Jeder <strong>erste Mittwoch im
 Monat</strong>, 9:00–10:00 Uhr<br />\n📍 <strong>Wo:</strong>
 Karlsruhe, Douglasstr. 24, 2. OG, <strong>Raum 204</strong> oder
 <strong><a
 href="https://kit-lecture.zoom-x.de/j/62725973413?pwd=XkUvenMrCaNbCS3K00
 27U5S9oxwSbT.1">online</a></strong></p>\n\n<p><br />\nDie Sprechstunde
 richtet sich an alle am KIT: <strong>Studierende, Lehrende, Forschende
 und Gründer:innen.</strong></p>\n\n<p><br />\nNutzen Sie die
 Gelegenheit, um mit uns ins Gespräch zu kommen über:<br />\n• Fragen
 zu bestehenden ARRTI-Lehrangeboten<br />\n• Möglichkeiten zur
 Integration zugeschnittener Module oder Veranstaltungen in Ihren
 Studiengang<br />\n• Einbindung von ARRTI-Angeboten beispielsweise in
 Ihre Lehrveranstaltung, Graduiertenprogramme oder Forschungsgruppe<br
 />\n• Unterstützung bei der ethischen Reflexion Ihrer Forschung und
 der Vermittlung entsprechender Ansprechpartner:innen<br />\n•
 Kooperationen in Drittmittelanträgen</p>\n\n<p><br />\n☕ Während der
 Sprechstunde stehen <strong>Kaffee, Tee und Kekse</strong> bereit –
 wir freuen uns auf den Austausch in angenehmer
 Atmosphäre!</p>\n\n<p><br />\n📩 <strong>Anmeldung:</strong> per
 E-Mail an <a
 href="mailto:nico.braehler@kit.edu">nico.braehler@kit.edu</a> oder
 einfach spontan vorbeikommen.</p>\n
DTSTART;TZID=Europe/Berlin:20260506T090000
DTEND;TZID=Europe/Berlin:20260506T100000
LOCATION:Douglasstraße 24, 2. OG, Raum 204 oder online, 76133 Karlsruhe
END:VEVENT
BEGIN:VEVENT
UID: 61261
DTSTAMP:20260424T043931Z
SUMMARY:MuT beim KIT Welcome Day
X-ALT-DESC;FMTTYPE=text/html:<!DOCTYPE HTML PUBLIC "-//W3C//DTD HTML 
 3.2//EN"><HTML><HEAD><TITLE></TITLE></HEAD><BODY>MuT beim KIT Welcome 
 Day<br>Fortbildungszentrum für Technik und Umwelt 
 (FTU)<br><br><p><strong>Das KIT-Zentrum Mensch und Technik (MuT) stellt 
 sich ab sofort bei den Welcome Days des <a 
 href="https://www.fortbildung.kit.edu/" 
 target="_blank">Fortbildungszentrums f&uuml;r Technik und Umwelt 
 (FTU)</a> neuen KIT-Mitarbeitenden vor.</strong></p><br><br><p> 
 </p><br><br><p>Die Veranstaltung richtet sich an alle neuen 
 Mitarbeitenden und gibt einen &Uuml;berblick &uuml;ber das KIT mit all 
 seinen Forschungsthemen, seinen Einrichtungen und vielf&auml;ltigen 
 Angeboten. Die neuen KIT-Mitarbeitenden erhalten innerhalb des Welcome 
 Days die Gelegenheit, mit Kolleg:innen in Kontakt zu treten und erste 
 Netzwerke zu bilden. Im Rahmen eines Marktplatzes pr&auml;sentieren 
 verschiedene Dienstleistungseinheiten - und jetzt auch das KIT-Zentrum 
 Mensch und Technik (MuT) - ihre Arbeitsfelder, -prozesse und 
 Angebote.</p><br><br><p> </p><br><br><p>Liebe neue Kolleg:innen, wir 
 freuen uns darauf, Euch kennenzulernen! :) </p><br></BODY></HTML>
DESCRIPTION: MuT beim KIT Welcome Day\nFortbildungszentrum für Technik
 und Umwelt (FTU)\n\n<p><strong>Das KIT-Zentrum Mensch und Technik (MuT)
 stellt sich ab sofort bei den Welcome Days des <a
 href="https://www.fortbildung.kit.edu/"
 target="_blank">Fortbildungszentrums für Technik und Umwelt (FTU)</a>
 neuen KIT-Mitarbeitenden vor.</strong></p>\n\n<p> </p>\n\n<p>Die
 Veranstaltung richtet sich an alle neuen Mitarbeitenden und gibt einen
 Überblick über das KIT mit all seinen Forschungsthemen, seinen
 Einrichtungen und vielfältigen Angeboten. Die neuen KIT-Mitarbeitenden
 erhalten innerhalb des Welcome Days die Gelegenheit, mit Kolleg:innen in
 Kontakt zu treten und erste Netzwerke zu bilden. Im Rahmen eines
 Marktplatzes präsentieren verschiedene Dienstleistungseinheiten - und
 jetzt auch das KIT-Zentrum Mensch und Technik (MuT) - ihre
 Arbeitsfelder, -prozesse und Angebote.</p>\n\n<p> </p>\n\n<p>Liebe neue
 Kolleg:innen, wir freuen uns darauf, Euch kennenzulernen! :) </p>\n
DTSTART;TZID=Europe/Berlin:20260618T110000
DTEND;TZID=Europe/Berlin:20260618T140000
LOCATION:Fortbildungszentrum für Technik und Umwelt (FTU)
END:VEVENT
BEGIN:VEVENT
UID: 61262
DTSTAMP:20260424T043931Z
SUMMARY:MuT beim KIT Welcome Day
X-ALT-DESC;FMTTYPE=text/html:<!DOCTYPE HTML PUBLIC "-//W3C//DTD HTML 
 3.2//EN"><HTML><HEAD><TITLE></TITLE></HEAD><BODY>MuT beim KIT Welcome 
 Day<br>Fortbildungszentrum für Technik und Umwelt 
 (FTU)<br><br><p><strong>Das KIT-Zentrum Mensch und Technik (MuT) stellt 
 sich ab sofort bei den Welcome Days des <a 
 href="https://www.fortbildung.kit.edu/" 
 target="_blank">Fortbildungszentrums f&uuml;r Technik und Umwelt 
 (FTU)</a> neuen KIT-Mitarbeitenden vor.</strong></p><br><br><p> 
 </p><br><br><p>Die Veranstaltung richtet sich an alle neuen 
 Mitarbeitenden und gibt einen &Uuml;berblick &uuml;ber das KIT mit all 
 seinen Forschungsthemen, seinen Einrichtungen und vielf&auml;ltigen 
 Angeboten. Die neuen KIT-Mitarbeitenden erhalten innerhalb des Welcome 
 Days die Gelegenheit, mit Kolleg:innen in Kontakt zu treten und erste 
 Netzwerke zu bilden. Im Rahmen eines Marktplatzes pr&auml;sentieren 
 verschiedene Dienstleistungseinheiten - und jetzt auch das KIT-Zentrum 
 Mensch und Technik (MuT) - ihre Arbeitsfelder, -prozesse und 
 Angebote.</p><br><br><p> </p><br><br><p>Liebe neue Kolleg:innen, wir 
 freuen uns darauf, Euch kennenzulernen! :) </p><br></BODY></HTML>
DESCRIPTION: MuT beim KIT Welcome Day\nFortbildungszentrum für Technik
 und Umwelt (FTU)\n\n<p><strong>Das KIT-Zentrum Mensch und Technik (MuT)
 stellt sich ab sofort bei den Welcome Days des <a
 href="https://www.fortbildung.kit.edu/"
 target="_blank">Fortbildungszentrums für Technik und Umwelt (FTU)</a>
 neuen KIT-Mitarbeitenden vor.</strong></p>\n\n<p> </p>\n\n<p>Die
 Veranstaltung richtet sich an alle neuen Mitarbeitenden und gibt einen
 Überblick über das KIT mit all seinen Forschungsthemen, seinen
 Einrichtungen und vielfältigen Angeboten. Die neuen KIT-Mitarbeitenden
 erhalten innerhalb des Welcome Days die Gelegenheit, mit Kolleg:innen in
 Kontakt zu treten und erste Netzwerke zu bilden. Im Rahmen eines
 Marktplatzes präsentieren verschiedene Dienstleistungseinheiten - und
 jetzt auch das KIT-Zentrum Mensch und Technik (MuT) - ihre
 Arbeitsfelder, -prozesse und Angebote.</p>\n\n<p> </p>\n\n<p>Liebe neue
 Kolleg:innen, wir freuen uns darauf, Euch kennenzulernen! :) </p>\n
DTSTART;TZID=Europe/Berlin:20260702T110000
DTEND;TZID=Europe/Berlin:20260702T140000
LOCATION:Fortbildungszentrum für Technik und Umwelt (FTU)
END:VEVENT
BEGIN:VEVENT
UID: 61263
DTSTAMP:20260424T043931Z
SUMMARY:MuT beim KIT Welcome Day
X-ALT-DESC;FMTTYPE=text/html:<!DOCTYPE HTML PUBLIC "-//W3C//DTD HTML 
 3.2//EN"><HTML><HEAD><TITLE></TITLE></HEAD><BODY>MuT beim KIT Welcome 
 Day<br>Fortbildungszentrum für Technik und Umwelt 
 (FTU)<br><br><p><strong>Das KIT-Zentrum Mensch und Technik (MuT) stellt 
 sich ab sofort bei den Welcome Days des <a 
 href="https://www.fortbildung.kit.edu/" 
 target="_blank">Fortbildungszentrums f&uuml;r Technik und Umwelt 
 (FTU)</a> neuen KIT-Mitarbeitenden vor.</strong></p><br><br><p> 
 </p><br><br><p>Die Veranstaltung richtet sich an alle neuen 
 Mitarbeitenden und gibt einen &Uuml;berblick &uuml;ber das KIT mit all 
 seinen Forschungsthemen, seinen Einrichtungen und vielf&auml;ltigen 
 Angeboten. Die neuen KIT-Mitarbeitenden erhalten innerhalb des Welcome 
 Days die Gelegenheit, mit Kolleg:innen in Kontakt zu treten und erste 
 Netzwerke zu bilden. Im Rahmen eines Marktplatzes pr&auml;sentieren 
 verschiedene Dienstleistungseinheiten - und jetzt auch das KIT-Zentrum 
 Mensch und Technik (MuT) - ihre Arbeitsfelder, -prozesse und 
 Angebote.</p><br><br><p> </p><br><br><p>Liebe neue Kolleg:innen, wir 
 freuen uns darauf, Euch kennenzulernen! :) </p><br></BODY></HTML>
DESCRIPTION: MuT beim KIT Welcome Day\nFortbildungszentrum für Technik
 und Umwelt (FTU)\n\n<p><strong>Das KIT-Zentrum Mensch und Technik (MuT)
 stellt sich ab sofort bei den Welcome Days des <a
 href="https://www.fortbildung.kit.edu/"
 target="_blank">Fortbildungszentrums für Technik und Umwelt (FTU)</a>
 neuen KIT-Mitarbeitenden vor.</strong></p>\n\n<p> </p>\n\n<p>Die
 Veranstaltung richtet sich an alle neuen Mitarbeitenden und gibt einen
 Überblick über das KIT mit all seinen Forschungsthemen, seinen
 Einrichtungen und vielfältigen Angeboten. Die neuen KIT-Mitarbeitenden
 erhalten innerhalb des Welcome Days die Gelegenheit, mit Kolleg:innen in
 Kontakt zu treten und erste Netzwerke zu bilden. Im Rahmen eines
 Marktplatzes präsentieren verschiedene Dienstleistungseinheiten - und
 jetzt auch das KIT-Zentrum Mensch und Technik (MuT) - ihre
 Arbeitsfelder, -prozesse und Angebote.</p>\n\n<p> </p>\n\n<p>Liebe neue
 Kolleg:innen, wir freuen uns darauf, Euch kennenzulernen! :) </p>\n
DTSTART;TZID=Europe/Berlin:20261015T110000
DTEND;TZID=Europe/Berlin:20261015T140000
LOCATION:Fortbildungszentrum für Technik und Umwelt (FTU)
END:VEVENT
BEGIN:VEVENT
UID: 61264
DTSTAMP:20260424T043931Z
SUMMARY:MuT beim KIT Welcome Day
X-ALT-DESC;FMTTYPE=text/html:<!DOCTYPE HTML PUBLIC "-//W3C//DTD HTML 
 3.2//EN"><HTML><HEAD><TITLE></TITLE></HEAD><BODY>MuT beim KIT Welcome 
 Day<br>Fortbildungszentrum für Technik und Umwelt 
 (FTU)<br><br><p><strong>Das KIT-Zentrum Mensch und Technik (MuT) stellt 
 sich ab sofort bei den Welcome Days des <a 
 href="https://www.fortbildung.kit.edu/" 
 target="_blank">Fortbildungszentrums f&uuml;r Technik und Umwelt 
 (FTU)</a> neuen KIT-Mitarbeitenden vor.</strong></p><br><br><p> 
 </p><br><br><p>Die Veranstaltung richtet sich an alle neuen 
 Mitarbeitenden und gibt einen &Uuml;berblick &uuml;ber das KIT mit all 
 seinen Forschungsthemen, seinen Einrichtungen und vielf&auml;ltigen 
 Angeboten. Die neuen KIT-Mitarbeitenden erhalten innerhalb des Welcome 
 Days die Gelegenheit, mit Kolleg:innen in Kontakt zu treten und erste 
 Netzwerke zu bilden. Im Rahmen eines Marktplatzes pr&auml;sentieren 
 verschiedene Dienstleistungseinheiten - und jetzt auch das KIT-Zentrum 
 Mensch und Technik (MuT) - ihre Arbeitsfelder, -prozesse und 
 Angebote.</p><br><br><p> </p><br><br><p>Liebe neue Kolleg:innen, wir 
 freuen uns darauf, Euch kennenzulernen! :) </p><br></BODY></HTML>
DESCRIPTION: MuT beim KIT Welcome Day\nFortbildungszentrum für Technik
 und Umwelt (FTU)\n\n<p><strong>Das KIT-Zentrum Mensch und Technik (MuT)
 stellt sich ab sofort bei den Welcome Days des <a
 href="https://www.fortbildung.kit.edu/"
 target="_blank">Fortbildungszentrums für Technik und Umwelt (FTU)</a>
 neuen KIT-Mitarbeitenden vor.</strong></p>\n\n<p> </p>\n\n<p>Die
 Veranstaltung richtet sich an alle neuen Mitarbeitenden und gibt einen
 Überblick über das KIT mit all seinen Forschungsthemen, seinen
 Einrichtungen und vielfältigen Angeboten. Die neuen KIT-Mitarbeitenden
 erhalten innerhalb des Welcome Days die Gelegenheit, mit Kolleg:innen in
 Kontakt zu treten und erste Netzwerke zu bilden. Im Rahmen eines
 Marktplatzes präsentieren verschiedene Dienstleistungseinheiten - und
 jetzt auch das KIT-Zentrum Mensch und Technik (MuT) - ihre
 Arbeitsfelder, -prozesse und Angebote.</p>\n\n<p> </p>\n\n<p>Liebe neue
 Kolleg:innen, wir freuen uns darauf, Euch kennenzulernen! :) </p>\n
DTSTART;TZID=Europe/Berlin:20261112T110000
DTEND;TZID=Europe/Berlin:20261112T140000
LOCATION:Fortbildungszentrum für Technik und Umwelt (FTU)
END:VEVENT
BEGIN:VEVENT
UID: 61265
DTSTAMP:20260424T043931Z
SUMMARY:MuT beim KIT Welcome Day
X-ALT-DESC;FMTTYPE=text/html:<!DOCTYPE HTML PUBLIC "-//W3C//DTD HTML 
 3.2//EN"><HTML><HEAD><TITLE></TITLE></HEAD><BODY>MuT beim KIT Welcome 
 Day<br>Fortbildungszentrum für Technik und Umwelt 
 (FTU)<br><br><p><strong>Das KIT-Zentrum Mensch und Technik (MuT) stellt 
 sich ab sofort bei den Welcome Days des <a 
 href="https://www.fortbildung.kit.edu/" 
 target="_blank">Fortbildungszentrums f&uuml;r Technik und Umwelt 
 (FTU)</a> neuen KIT-Mitarbeitenden vor.</strong></p><br><br><p> 
 </p><br><br><p>Die Veranstaltung richtet sich an alle neuen 
 Mitarbeitenden und gibt einen &Uuml;berblick &uuml;ber das KIT mit all 
 seinen Forschungsthemen, seinen Einrichtungen und vielf&auml;ltigen 
 Angeboten. Die neuen KIT-Mitarbeitenden erhalten innerhalb des Welcome 
 Days die Gelegenheit, mit Kolleg:innen in Kontakt zu treten und erste 
 Netzwerke zu bilden. Im Rahmen eines Marktplatzes pr&auml;sentieren 
 verschiedene Dienstleistungseinheiten - und jetzt auch das KIT-Zentrum 
 Mensch und Technik (MuT) - ihre Arbeitsfelder, -prozesse und 
 Angebote.</p><br><br><p> </p><br><br><p>Liebe neue Kolleg:innen, wir 
 freuen uns darauf, Euch kennenzulernen! :) </p><br></BODY></HTML>
DESCRIPTION: MuT beim KIT Welcome Day\nFortbildungszentrum für Technik
 und Umwelt (FTU)\n\n<p><strong>Das KIT-Zentrum Mensch und Technik (MuT)
 stellt sich ab sofort bei den Welcome Days des <a
 href="https://www.fortbildung.kit.edu/"
 target="_blank">Fortbildungszentrums für Technik und Umwelt (FTU)</a>
 neuen KIT-Mitarbeitenden vor.</strong></p>\n\n<p> </p>\n\n<p>Die
 Veranstaltung richtet sich an alle neuen Mitarbeitenden und gibt einen
 Überblick über das KIT mit all seinen Forschungsthemen, seinen
 Einrichtungen und vielfältigen Angeboten. Die neuen KIT-Mitarbeitenden
 erhalten innerhalb des Welcome Days die Gelegenheit, mit Kolleg:innen in
 Kontakt zu treten und erste Netzwerke zu bilden. Im Rahmen eines
 Marktplatzes präsentieren verschiedene Dienstleistungseinheiten - und
 jetzt auch das KIT-Zentrum Mensch und Technik (MuT) - ihre
 Arbeitsfelder, -prozesse und Angebote.</p>\n\n<p> </p>\n\n<p>Liebe neue
 Kolleg:innen, wir freuen uns darauf, Euch kennenzulernen! :) </p>\n
DTSTART;TZID=Europe/Berlin:20261210T110000
DTEND;TZID=Europe/Berlin:20261210T140000
LOCATION:Fortbildungszentrum für Technik und Umwelt (FTU)
END:VEVENT
END:VCALENDAR
