BEGIN:VCALENDAR
PRODID:Physik Mentoring 
VERSION:2.0
X-WR-CALNAME:Physik Mentoring 
NAME:Physik Mentoring 
REFRESH-INTERVAL;VALUE=DURATION:PT12H
X-PUBLISHED-TTL:PT12H
BEGIN:VTIMEZONE
TZID:Europe/Berlin
TZURL:http://tzurl.org/zoneinfo-outlook/Europe/Berlin
X-LIC-LOCATION:Europe/Berlin
BEGIN:DAYLIGHT
TZOFFSETFROM:+0100
TZOFFSETTO:+0200
TZNAME:CEST
DTSTART:19700329T020000
RRULE:FREQ=YEARLY;BYMONTH=3;BYDAY=-1SU
END:DAYLIGHT
BEGIN:STANDARD
TZOFFSETFROM:+0200
TZOFFSETTO:+0100
TZNAME:CET
DTSTART:19701025T030000
RRULE:FREQ=YEARLY;BYMONTH=10;BYDAY=-1SU
END:STANDARD
END:VTIMEZONE
BEGIN:VEVENT
UID: 61568
DTSTAMP:20260422T002434Z
SUMMARY:Dem dunklen Universum auf der Spur
X-ALT-DESC;FMTTYPE=text/html:<!DOCTYPE HTML PUBLIC "-//W3C//DTD HTML 
 3.2//EN"><HTML><HEAD><TITLE></TITLE></HEAD><BODY>Dem dunklen Universum 
 auf der Spur<br>Lehmann-Hörsaal<br><br><p>Das Universum besteht zu 95 % 
 aus Dingen, die wir nicht sehen k&ouml;nnen. Eine unbekannte Energie 
 treibt seine beschleunigte Ausdehnung an, unsichtbare Materie formt 
 Galaxien und kosmische Strukturen, und die Physik, die die 
 Anfangsbedingungen des Universums festgelegt hat, ist bis heute 
 ungekl&auml;rt.</p><br><br><p>In diesem Vortrag stelle ich diese drei 
 R&auml;tsel vor: Inflation, Dunkle Materie und Dunkle Energie und zeige, 
 warum man sie nur an der Schnittstelle von Teilchenphysik und Kosmologie 
 verstehen kann. Ich erkl&auml;re, wie meine Gruppe am KIT neue 
 theoretische Ans&auml;tze entwickelt und nach Signaturen sucht, die die 
 kommenden Experimente messen k&ouml;nnten. Wer das Universum besser 
 verstehen will und vielleicht sogar selbst Interesse hat, mitzuforschen, 
 ist herzlich willkommen.</p><br></BODY></HTML>
DESCRIPTION: Dem dunklen Universum auf der
 Spur\nLehmann-Hörsaal\n\n<p>Das Universum besteht zu 95 % aus Dingen,
 die wir nicht sehen können. Eine unbekannte Energie treibt seine
 beschleunigte Ausdehnung an, unsichtbare Materie formt Galaxien und
 kosmische Strukturen, und die Physik, die die Anfangsbedingungen des
 Universums festgelegt hat, ist bis heute ungeklärt.</p>\n\n<p>In diesem
 Vortrag stelle ich diese drei Rätsel vor: Inflation, Dunkle Materie und
 Dunkle Energie und zeige, warum man sie nur an der Schnittstelle von
 Teilchenphysik und Kosmologie verstehen kann. Ich erkläre, wie meine
 Gruppe am KIT neue theoretische Ansätze entwickelt und nach Signaturen
 sucht, die die kommenden Experimente messen könnten. Wer das Universum
 besser verstehen will und vielleicht sogar selbst Interesse hat,
 mitzuforschen, ist herzlich willkommen.</p>\n
DTSTART;TZID=Europe/Berlin:20260506T173000
DTEND;TZID=Europe/Berlin:20260506T190000
LOCATION:Lehmann-Hörsaal
END:VEVENT
END:VCALENDAR
