BEGIN:VCALENDAR
PRODID:CIW Promotionsprüfungen
VERSION:2.0
X-WR-CALNAME:CIW Promotionsprüfungen
NAME:CIW Promotionsprüfungen
REFRESH-INTERVAL;VALUE=DURATION:PT12H
X-PUBLISHED-TTL:PT12H
BEGIN:VTIMEZONE
TZID:Europe/Berlin
TZURL:http://tzurl.org/zoneinfo-outlook/Europe/Berlin
X-LIC-LOCATION:Europe/Berlin
BEGIN:DAYLIGHT
TZOFFSETFROM:+0100
TZOFFSETTO:+0200
TZNAME:CEST
DTSTART:19700329T020000
RRULE:FREQ=YEARLY;BYMONTH=3;BYDAY=-1SU
END:DAYLIGHT
BEGIN:STANDARD
TZOFFSETFROM:+0200
TZOFFSETTO:+0100
TZNAME:CET
DTSTART:19701025T030000
RRULE:FREQ=YEARLY;BYMONTH=10;BYDAY=-1SU
END:STANDARD
END:VTIMEZONE
BEGIN:VEVENT
UID: 61303
DTSTAMP:20260422T070038Z
SUMMARY:Experimental and Theoretical Investigation of a Surface Radiant Burner
X-ALT-DESC;FMTTYPE=text/html:<!DOCTYPE HTML PUBLIC "-//W3C//DTD HTML 
 3.2//EN"><HTML><HEAD><TITLE></TITLE></HEAD><BODY>Experimental and 
 Theoretical Investigation of a Surface Radiant Burner<br>Geb. 40.50, 
 Raum 004<br><br></BODY></HTML>
DESCRIPTION: Experimental and Theoretical Investigation of a Surface
 Radiant Burner\nGeb. 40.50, Raum 004\n\n
DTSTART;TZID=Europe/Berlin:20260424T100000
DTEND;TZID=Europe/Berlin:20260424T235900
LOCATION:Geb. 40.50, Raum 004
END:VEVENT
BEGIN:VEVENT
UID: 61293
DTSTAMP:20260422T070038Z
SUMMARY:Wärmeübergang bei der Öl-Sprühnebelkühlung von Antriebsmaschinen
 für Elektro- und Hybridfahrzeuge
X-ALT-DESC;FMTTYPE=text/html:<!DOCTYPE HTML PUBLIC "-//W3C//DTD HTML 
 3.2//EN"><HTML><HEAD><TITLE></TITLE></HEAD><BODY>Wärmeübergang bei der 
 Öl-Sprühnebelkühlung von Antriebsmaschinen für Elektro- und 
 Hybridfahrzeuge<br>Geb. 10.91, Raum 106<br><br></BODY></HTML>
DESCRIPTION: Wärmeübergang bei der Öl-Sprühnebelkühlung von
 Antriebsmaschinen für Elektro- und Hybridfahrzeuge\nGeb. 10.91, Raum
 106\n\n
DTSTART;TZID=Europe/Berlin:20260424T130000
DTEND;TZID=Europe/Berlin:20260424T235900
LOCATION:Geb. 10.91, Raum 106
END:VEVENT
BEGIN:VEVENT
UID: 61314
DTSTAMP:20260422T070038Z
SUMMARY:Advancement of Closed Gas Loop Photobioreactor for Production of
 13C-Labeled Starch and Related Studies of Metabolic and Light Kinetics
X-ALT-DESC;FMTTYPE=text/html:<!DOCTYPE HTML PUBLIC "-//W3C//DTD HTML 
 3.2//EN"><HTML><HEAD><TITLE></TITLE></HEAD><BODY>Advancement of Closed 
 Gas Loop Photobioreactor for Production of 13C-Labeled Starch and 
 Related Studies of Metabolic and Light Kinetics<br>Geb. 30.44, Raum 
 007<br><br></BODY></HTML>
DESCRIPTION: Advancement of Closed Gas Loop Photobioreactor for
 Production of 13C-Labeled Starch and Related Studies of Metabolic and
 Light Kinetics\nGeb. 30.44, Raum 007\n\n
DTSTART;TZID=Europe/Berlin:20260428T130000
DTEND;TZID=Europe/Berlin:20260428T235900
LOCATION:Geb. 30.44, Raum 007
END:VEVENT
BEGIN:VEVENT
UID: 61318
DTSTAMP:20260422T070038Z
SUMMARY:Prozessauslegung und Digitalisierung der kontinuierlichen Herstellung
 von Batteriepasten in Doppelschneckenextrudern
X-ALT-DESC;FMTTYPE=text/html:<!DOCTYPE HTML PUBLIC "-//W3C//DTD HTML 
 3.2//EN"><HTML><HEAD><TITLE></TITLE></HEAD><BODY>Prozessauslegung und 
 Digitalisierung der kontinuierlichen Herstellung von Batteriepasten in 
 Doppelschneckenextrudern<br>Geb. 40.50, Raum 004<br><br></BODY></HTML>
DESCRIPTION: Prozessauslegung und Digitalisierung der kontinuierlichen
 Herstellung von Batteriepasten in Doppelschneckenextrudern\nGeb. 40.50,
 Raum 004\n\n
DTSTART;TZID=Europe/Berlin:20260430T120000
DTEND;TZID=Europe/Berlin:20260430T235900
LOCATION:Geb. 40.50, Raum 004
END:VEVENT
BEGIN:VEVENT
UID: 61418
DTSTAMP:20260422T070038Z
SUMMARY:Exciting Waves: How Structured Surfaces Enhance Mass Transfer in a
 Falling Film Absorber for CO2 Capture
X-ALT-DESC;FMTTYPE=text/html:<!DOCTYPE HTML PUBLIC "-//W3C//DTD HTML 
 3.2//EN"><HTML><HEAD><TITLE></TITLE></HEAD><BODY>Exciting Waves: How 
 Structured Surfaces Enhance Mass Transfer in a Falling Film Absorber for 
 CO2 Capture<br>Geb. 11.21, Raum 104<br><br></BODY></HTML>
DESCRIPTION: Exciting Waves: How Structured Surfaces Enhance Mass
 Transfer in a Falling Film Absorber for CO2 Capture\nGeb. 11.21, Raum
 104\n\n
DTSTART;TZID=Europe/Berlin:20260504T120000
DTEND;TZID=Europe/Berlin:20260504T235900
LOCATION:Geb. 11.21, Raum 104
END:VEVENT
BEGIN:VEVENT
UID: 61524
DTSTAMP:20260422T070038Z
SUMMARY:Improving Computational Models of Solid Oxide Cells for Industrial
 Performance Optimization
X-ALT-DESC;FMTTYPE=text/html:<!DOCTYPE HTML PUBLIC "-//W3C//DTD HTML 
 3.2//EN"><HTML><HEAD><TITLE></TITLE></HEAD><BODY>Improving Computational 
 Models of Solid Oxide Cells for Industrial Performance 
 Optimization<br>Geb. 11.21, Raum 104<br><br></BODY></HTML>
DESCRIPTION: Improving Computational Models of Solid Oxide Cells for
 Industrial Performance Optimization\nGeb. 11.21, Raum 104\n\n
DTSTART;TZID=Europe/Berlin:20260506T144500
DTEND;TZID=Europe/Berlin:20260506T235900
LOCATION:Geb. 11.21, Raum 104
END:VEVENT
BEGIN:VEVENT
UID: 61532
DTSTAMP:20260422T070038Z
SUMMARY:Generation of Pure Hydrogen from Wet Waste Biomass via Gasification in
 Supercritical Water and Sequential Reforming of the Hydrocarbons
X-ALT-DESC;FMTTYPE=text/html:<!DOCTYPE HTML PUBLIC "-//W3C//DTD HTML 
 3.2//EN"><HTML><HEAD><TITLE></TITLE></HEAD><BODY>Generation of Pure 
 Hydrogen from Wet Waste Biomass via Gasification in Supercritical Water 
 and Sequential Reforming of the Hydrocarbons<br>Geb. 40.50, Raum 
 004<br><br></BODY></HTML>
DESCRIPTION: Generation of Pure Hydrogen from Wet Waste Biomass via
 Gasification in Supercritical Water and Sequential Reforming of the
 Hydrocarbons\nGeb. 40.50, Raum 004\n\n
DTSTART;TZID=Europe/Berlin:20260507T100000
DTEND;TZID=Europe/Berlin:20260507T235900
LOCATION:Geb. 40.50, Raum 004
END:VEVENT
BEGIN:VEVENT
UID: 61553
DTSTAMP:20260422T070038Z
SUMMARY:Development and Application of Microkinetic Models Leveraging
 Optimization Algorithms and Surrogate Models
X-ALT-DESC;FMTTYPE=text/html:<!DOCTYPE HTML PUBLIC "-//W3C//DTD HTML 
 3.2//EN"><HTML><HEAD><TITLE></TITLE></HEAD><BODY>Development and 
 Application of Microkinetic Models Leveraging Optimization Algorithms 
 and Surrogate Models<br>Geb. 11.21, Raum 104<br><br></BODY></HTML>
DESCRIPTION: Development and Application of Microkinetic Models
 Leveraging Optimization Algorithms and Surrogate Models\nGeb. 11.21,
 Raum 104\n\n
DTSTART;TZID=Europe/Berlin:20260511T140000
DTEND;TZID=Europe/Berlin:20260511T235900
LOCATION:Geb. 11.21, Raum 104
END:VEVENT
END:VCALENDAR
