BEGIN:VCALENDAR
PRODID:Techtransfer Veranstaltungen
VERSION:2.0
X-WR-CALNAME:Techtransfer Veranstaltungen
NAME:Techtransfer Veranstaltungen
REFRESH-INTERVAL;VALUE=DURATION:PT12H
X-PUBLISHED-TTL:PT12H
BEGIN:VTIMEZONE
TZID:Europe/Berlin
TZURL:http://tzurl.org/zoneinfo-outlook/Europe/Berlin
X-LIC-LOCATION:Europe/Berlin
BEGIN:DAYLIGHT
TZOFFSETFROM:+0100
TZOFFSETTO:+0200
TZNAME:CEST
DTSTART:19700329T020000
RRULE:FREQ=YEARLY;BYMONTH=3;BYDAY=-1SU
END:DAYLIGHT
BEGIN:STANDARD
TZOFFSETFROM:+0200
TZOFFSETTO:+0100
TZNAME:CET
DTSTART:19701025T030000
RRULE:FREQ=YEARLY;BYMONTH=10;BYDAY=-1SU
END:STANDARD
END:VTIMEZONE
BEGIN:VEVENT
UID: 61282
DTSTAMP:20260421T191929Z
SUMMARY:Hannover Messe 2026
X-ALT-DESC;FMTTYPE=text/html:<!DOCTYPE HTML PUBLIC "-//W3C//DTD HTML 
 3.2//EN"><HTML><HEAD><TITLE></TITLE></HEAD><BODY>Hannover Messe 
 2026<br>Messegelände, Halle 11 Stand B06, 30521 Hannover<br><br><p>Vom 
 20. bis 24. April 2026 findet die Hannover Messe &ndash; die weltweit 
 gr&ouml;&szlig;te Messe f&uuml;r Industrie, Technologie und Innovation 
 &ndash; statt. Wie bereits in den vergangenen Jahren wird das Karlsruher 
 Institut f&uuml;r Technologie (KIT) ebenfalls vertreten 
 sein.</p><br><br><p> </p><br><br><p>Additiv gefertigte 
 Multi-Material-Keramiken f&uuml;r Hightech-Anwendungen, kollaborative 
 Industrieroboter f&uuml;r flexible Produktionsprozesse, pr&auml;ziser 
 kalibrierte, optisch gef&uuml;hrte Robotersysteme sowie neue Konzepte 
 f&uuml;r klimafreundliche Energieversorgung und Mobilit&auml;t: Das KIT 
 pr&auml;sentiert vom 20. bis 24. April 2026 auf der Hannover Messe 
 aktuelle Entwicklungen aus Forschung, Transfer und Ausgr&uuml;ndungen. 
 Die Exponate am Stand B06 in Halle 11 reichen von Fertigungs- und 
 Automatisierungstechnologien &uuml;ber Energiel&ouml;sungen bis hin zu 
 Quantentechnologien und Fusionsforschung.</p><br><br><p> 
 </p><br><br><p>Am Stand D40 der KIT-Gr&uuml;nderschmiede in Halle 11 
 erhalten Sie au&szlig;erdem spannende Einblicke in t&auml;glich 
 wechselnde, erfolgreiche Ausgr&uuml;ndungen. Tauschen Sie sich mit 
 innovativen Gr&uuml;nderinnen und Gr&uuml;ndern aus und entdecken Sie, 
 wie der Transfer von Forschung in die Anwendung gelingt.</p><br><br><p> 
 </p><br><br><p>Wenn Sie vor Ort teilnehmen wollen, k&ouml;nnen Sie ein 
 kostenfreies Fachbesucherticket &uuml;ber den Downloadbutton am Ende der 
 Seite erhalten.</p><br></BODY></HTML>
DESCRIPTION: Hannover Messe 2026\nMessegelände, Halle 11 Stand B06,
 30521 Hannover\n\n<p>Vom 20. bis 24. April 2026 findet die Hannover
 Messe – die weltweit größte Messe für Industrie, Technologie und
 Innovation – statt. Wie bereits in den vergangenen Jahren wird das
 Karlsruher Institut für Technologie (KIT) ebenfalls vertreten
 sein.</p>\n\n<p> </p>\n\n<p>Additiv gefertigte Multi-Material-Keramiken
 für Hightech-Anwendungen, kollaborative Industrieroboter für flexible
 Produktionsprozesse, präziser kalibrierte, optisch geführte
 Robotersysteme sowie neue Konzepte für klimafreundliche
 Energieversorgung und Mobilität: Das KIT präsentiert vom 20. bis 24.
 April 2026 auf der Hannover Messe aktuelle Entwicklungen aus Forschung,
 Transfer und Ausgründungen. Die Exponate am Stand B06 in Halle 11
 reichen von Fertigungs- und Automatisierungstechnologien über
 Energielösungen bis hin zu Quantentechnologien und
 Fusionsforschung.</p>\n\n<p> </p>\n\n<p>Am Stand D40 der
 KIT-Gründerschmiede in Halle 11 erhalten Sie außerdem spannende
 Einblicke in täglich wechselnde, erfolgreiche Ausgründungen. Tauschen
 Sie sich mit innovativen Gründerinnen und Gründern aus und entdecken
 Sie, wie der Transfer von Forschung in die Anwendung gelingt.</p>\n\n<p>
 </p>\n\n<p>Wenn Sie vor Ort teilnehmen wollen, können Sie ein
 kostenfreies Fachbesucherticket über den Downloadbutton am Ende der
 Seite erhalten.</p>\n
DTSTART;TZID=Europe/Berlin:20260422T090000
DTEND;TZID=Europe/Berlin:20260422T180000
LOCATION:Messegelände, Halle 11 Stand B06, 30521 Hannover
END:VEVENT
BEGIN:VEVENT
UID: 61283
DTSTAMP:20260421T191929Z
SUMMARY:Hannover Messe 2026
X-ALT-DESC;FMTTYPE=text/html:<!DOCTYPE HTML PUBLIC "-//W3C//DTD HTML 
 3.2//EN"><HTML><HEAD><TITLE></TITLE></HEAD><BODY>Hannover Messe 
 2026<br>Messegelände, Halle 11 Stand B06, 30521 Hannover<br><br><p>Vom 
 20. bis 24. April 2026 findet die Hannover Messe &ndash; die weltweit 
 gr&ouml;&szlig;te Messe f&uuml;r Industrie, Technologie und Innovation 
 &ndash; statt. Wie bereits in den vergangenen Jahren wird das Karlsruher 
 Institut f&uuml;r Technologie (KIT) ebenfalls vertreten 
 sein.</p><br><br><p> </p><br><br><p>Additiv gefertigte 
 Multi-Material-Keramiken f&uuml;r Hightech-Anwendungen, kollaborative 
 Industrieroboter f&uuml;r flexible Produktionsprozesse, pr&auml;ziser 
 kalibrierte, optisch gef&uuml;hrte Robotersysteme sowie neue Konzepte 
 f&uuml;r klimafreundliche Energieversorgung und Mobilit&auml;t: Das KIT 
 pr&auml;sentiert vom 20. bis 24. April 2026 auf der Hannover Messe 
 aktuelle Entwicklungen aus Forschung, Transfer und Ausgr&uuml;ndungen. 
 Die Exponate am Stand B06 in Halle 11 reichen von Fertigungs- und 
 Automatisierungstechnologien &uuml;ber Energiel&ouml;sungen bis hin zu 
 Quantentechnologien und Fusionsforschung.</p><br><br><p> 
 </p><br><br><p>Am Stand D40 der KIT-Gr&uuml;nderschmiede in Halle 11 
 erhalten Sie au&szlig;erdem spannende Einblicke in t&auml;glich 
 wechselnde, erfolgreiche Ausgr&uuml;ndungen. Tauschen Sie sich mit 
 innovativen Gr&uuml;nderinnen und Gr&uuml;ndern aus und entdecken Sie, 
 wie der Transfer von Forschung in die Anwendung gelingt.</p><br><br><p> 
 </p><br><br><p>Wenn Sie vor Ort teilnehmen wollen, k&ouml;nnen Sie ein 
 kostenfreies Fachbesucherticket &uuml;ber den Downloadbutton am Ende der 
 Seite erhalten.</p><br></BODY></HTML>
DESCRIPTION: Hannover Messe 2026\nMessegelände, Halle 11 Stand B06,
 30521 Hannover\n\n<p>Vom 20. bis 24. April 2026 findet die Hannover
 Messe – die weltweit größte Messe für Industrie, Technologie und
 Innovation – statt. Wie bereits in den vergangenen Jahren wird das
 Karlsruher Institut für Technologie (KIT) ebenfalls vertreten
 sein.</p>\n\n<p> </p>\n\n<p>Additiv gefertigte Multi-Material-Keramiken
 für Hightech-Anwendungen, kollaborative Industrieroboter für flexible
 Produktionsprozesse, präziser kalibrierte, optisch geführte
 Robotersysteme sowie neue Konzepte für klimafreundliche
 Energieversorgung und Mobilität: Das KIT präsentiert vom 20. bis 24.
 April 2026 auf der Hannover Messe aktuelle Entwicklungen aus Forschung,
 Transfer und Ausgründungen. Die Exponate am Stand B06 in Halle 11
 reichen von Fertigungs- und Automatisierungstechnologien über
 Energielösungen bis hin zu Quantentechnologien und
 Fusionsforschung.</p>\n\n<p> </p>\n\n<p>Am Stand D40 der
 KIT-Gründerschmiede in Halle 11 erhalten Sie außerdem spannende
 Einblicke in täglich wechselnde, erfolgreiche Ausgründungen. Tauschen
 Sie sich mit innovativen Gründerinnen und Gründern aus und entdecken
 Sie, wie der Transfer von Forschung in die Anwendung gelingt.</p>\n\n<p>
 </p>\n\n<p>Wenn Sie vor Ort teilnehmen wollen, können Sie ein
 kostenfreies Fachbesucherticket über den Downloadbutton am Ende der
 Seite erhalten.</p>\n
DTSTART;TZID=Europe/Berlin:20260423T090000
DTEND;TZID=Europe/Berlin:20260423T180000
LOCATION:Messegelände, Halle 11 Stand B06, 30521 Hannover
END:VEVENT
BEGIN:VEVENT
UID: 61284
DTSTAMP:20260421T191929Z
SUMMARY:Hannover Messe 2026
X-ALT-DESC;FMTTYPE=text/html:<!DOCTYPE HTML PUBLIC "-//W3C//DTD HTML 
 3.2//EN"><HTML><HEAD><TITLE></TITLE></HEAD><BODY>Hannover Messe 
 2026<br>Messegelände , 30521 Hannover<br><br><p>Vom 20. bis 24. April 
 2026 findet die Hannover Messe &ndash; die weltweit gr&ouml;&szlig;te 
 Messe f&uuml;r Industrie, Technologie und Innovation &ndash; statt. Wie 
 bereits in den vergangenen Jahren wird das Karlsruher Institut f&uuml;r 
 Technologie (KIT) ebenfalls vertreten sein.</p><br><br><p> 
 </p><br><br><p>In Halle 11, Stand B06 legen wir den Schwerpunkt auf 
 Technologietransfer sowie auf eine Schl&uuml;sseltechnologie der 
 Hightech-Agenda: Fusionsenergie. Mit einem Exponat aus dem Herzen eines 
 Fusionskraftwerks &ndash; dem Brutblanket &ndash; pr&auml;sentieren wir 
 eine technische L&ouml;sung mit dem Potenzial, einen wesentlichen 
 Beitrag zur Energieversorgung der Zukunft zu leisten. Anhand eines 
 Gyrotron-Demonstrators veranschaulichen wir, wie mithilfe von 
 Mikrowellentechnik das mehrere Millionen Grad hei&szlig;e Fusionsplasma 
 erzeugt und aufgeheizt wird. Dar&uuml;ber hinaus stellen wir weitere 
 Exponate vor, die sich unter anderem mit Wasserstofftechnologien, 
 Elektrifizierung chemischer Prozesse sowie innovativen 
 Energiewandlungskonzepten befassen.</p><br><br><p> </p><br><br><p>Am 
 Stand der KIT-Gr&uuml;nderschmiede in Halle 11 erhalten Sie 
 au&szlig;erdem spannende Einblicke in weitere erfolgreiche 
 Ausgr&uuml;ndungen. Tauschen Sie sich mit innovativen Gr&uuml;nderinnen 
 und Gr&uuml;ndern aus und entdecken Sie, wie der Transfer von Forschung 
 in die Anwendung gelingt.</p><br><br><p> </p><br><br><p>Wenn Sie vor Ort 
 teilnehmen wollen, k&ouml;nnen Sie ein kostenfreies Fachbesucherticket 
 &uuml;ber den Downloadbutton am Ende der Seite 
 erhalten.</p><br></BODY></HTML>
DESCRIPTION: Hannover Messe 2026\nMessegelände , 30521
 Hannover\n\n<p>Vom 20. bis 24. April 2026 findet die Hannover Messe –
 die weltweit größte Messe für Industrie, Technologie und Innovation
 – statt. Wie bereits in den vergangenen Jahren wird das Karlsruher
 Institut für Technologie (KIT) ebenfalls vertreten sein.</p>\n\n<p>
 </p>\n\n<p>In Halle 11, Stand B06 legen wir den Schwerpunkt auf
 Technologietransfer sowie auf eine Schlüsseltechnologie der
 Hightech-Agenda: Fusionsenergie. Mit einem Exponat aus dem Herzen eines
 Fusionskraftwerks – dem Brutblanket – präsentieren wir eine
 technische Lösung mit dem Potenzial, einen wesentlichen Beitrag zur
 Energieversorgung der Zukunft zu leisten. Anhand eines
 Gyrotron-Demonstrators veranschaulichen wir, wie mithilfe von
 Mikrowellentechnik das mehrere Millionen Grad heiße Fusionsplasma
 erzeugt und aufgeheizt wird. Darüber hinaus stellen wir weitere
 Exponate vor, die sich unter anderem mit Wasserstofftechnologien,
 Elektrifizierung chemischer Prozesse sowie innovativen
 Energiewandlungskonzepten befassen.</p>\n\n<p> </p>\n\n<p>Am Stand der
 KIT-Gründerschmiede in Halle 11 erhalten Sie außerdem spannende
 Einblicke in weitere erfolgreiche Ausgründungen. Tauschen Sie sich mit
 innovativen Gründerinnen und Gründern aus und entdecken Sie, wie der
 Transfer von Forschung in die Anwendung gelingt.</p>\n\n<p>
 </p>\n\n<p>Wenn Sie vor Ort teilnehmen wollen, können Sie ein
 kostenfreies Fachbesucherticket über den Downloadbutton am Ende der
 Seite erhalten.</p>\n
DTSTART;TZID=Europe/Berlin:20260424T090000
DTEND;TZID=Europe/Berlin:20260424T150000
LOCATION:Messegelände , 30521 Hannover
END:VEVENT
BEGIN:VEVENT
UID: 60781
DTSTAMP:20260421T191929Z
SUMMARY:KIT-Karrieremesse 19.-20. Mai 2026
X-ALT-DESC;FMTTYPE=text/html:<!DOCTYPE HTML PUBLIC "-//W3C//DTD HTML 
 3.2//EN"><HTML><HEAD><TITLE></TITLE></HEAD><BODY>KIT-Karrieremesse 
 19.-20. Mai 2026<br>Forum vor dem Audimax (Geb. 30.95), KIT Campus Süd 
 <br><br><p>Die KIT-Karrieremesse ist die offizielle Firmenkontaktmesse 
 des KIT und richtet sich an Studierende, Promovierende, Alumni und 
 Alumnae aller Fachrichtungen.<br /><br><br /><br><strong>- 
 Wann:</strong> 19.-20. Mai 2026, 12-17 Uhr<br /><br><strong>- 
 Wo:</strong> Forum vor dem Audimax (Geb. 30.95), KIT Campus S&uuml;d<br 
 /><br><strong>- Was:</strong> Job-Open-Air f&uuml;r Studierende, 
 Promovierende und Alumnae/-i des KIT<br /><br><strong>- Wer:</strong> 
 rund 180 Unternehmen und Institutionen (t&auml;glich wechselnd) aus 
 verschiedenen Branchen<br /><br><strong>- Angebot f&uuml;r:</strong> 
 alle Fachrichtungen und Semester<br /><br><strong>- Eintritt:</strong> 
 kostenlos und ohne Anmeldung<br /><br><br /><br><strong>Die Messe ist 
 f&uuml;r dich, wenn du:</strong><br /><br><br /><br>- im Bachelor oder 
 Master studierst oder promovierst oder bereits deinen Abschluss gemacht 
 hast.<br /><br>- schon w&auml;hrend des Studiums Einblicke in 
 Berufsfelder und Unternehmen gewinnen willst,<br /><br>- einen 
 Praktikumsplatz, Werkstudierendenjob oder eine Abschlussarbeit 
 suchst,<br /><br>- kurz vor dem Jobeinstieg stehst und Kontakte zu 
 potenziellen Arbeitgebern kn&uuml;pfen m&ouml;chtest,<br /><br>- dich 
 allgemein &uuml;ber Karrierem&ouml;glichkeiten, Branchen und 
 Berufsbilder informieren willst.<br /><br><br /><br><strong>Deine 
 Vorteile auf einen Blick:</strong><br /><br><br /><br>- Kn&uuml;pfe in 
 entspannter Open-Air-Atmosph&auml;re pers&ouml;nliche Kontakte zu 
 zahlreichen Unternehmen aus unterschiedlichen Branchen.<br /><br>- 
 Profitiere von einem Angebot, das speziell auf KIT-Studierende 
 zugeschnitten ist.<br /><br>- Erhalte kostenlose Beratung, Tipps und 
 CV-Checks des Career Service - unkompliziert und ohne Anmeldung.<br 
 /><br>- Finde direkt passende Stellenangebote f&uuml;r Praktika, Jobs 
 und den Berufseinstieg.<br /><br>- Spare Zeit und Wege - die Messe 
 findet direkt vor deiner Haust&uuml;r am KIT Campus S&uuml;d statt.<br 
 /><br><br /><br>Datum der Veranstaltung: 19.05.2026, 12:00 - 17:00 
 Uhr<br /><br>Sprache: Deutsch/Englisch<br /><br>Format: Pr&auml;senz<br 
 /><br>Anmeldung: Keine Anmeldung n&ouml;tig.</p><br></BODY></HTML>
DESCRIPTION: KIT-Karrieremesse 19.-20. Mai 2026\nForum vor dem Audimax
 (Geb. 30.95), KIT Campus Süd \n\n<p>Die KIT-Karrieremesse ist die
 offizielle Firmenkontaktmesse des KIT und richtet sich an Studierende,
 Promovierende, Alumni und Alumnae aller Fachrichtungen.<br />\n<br
 />\n<strong>- Wann:</strong> 19.-20. Mai 2026, 12-17 Uhr<br
 />\n<strong>- Wo:</strong> Forum vor dem Audimax (Geb. 30.95), KIT
 Campus Süd<br />\n<strong>- Was:</strong> Job-Open-Air für
 Studierende, Promovierende und Alumnae/-i des KIT<br />\n<strong>-
 Wer:</strong> rund 180 Unternehmen und Institutionen (täglich
 wechselnd) aus verschiedenen Branchen<br />\n<strong>- Angebot
 für:</strong> alle Fachrichtungen und Semester<br />\n<strong>-
 Eintritt:</strong> kostenlos und ohne Anmeldung<br />\n<br
 />\n<strong>Die Messe ist für dich, wenn du:</strong><br />\n<br />\n-
 im Bachelor oder Master studierst oder promovierst oder bereits deinen
 Abschluss gemacht hast.<br />\n- schon während des Studiums Einblicke
 in Berufsfelder und Unternehmen gewinnen willst,<br />\n- einen
 Praktikumsplatz, Werkstudierendenjob oder eine Abschlussarbeit
 suchst,<br />\n- kurz vor dem Jobeinstieg stehst und Kontakte zu
 potenziellen Arbeitgebern knüpfen möchtest,<br />\n- dich allgemein
 über Karrieremöglichkeiten, Branchen und Berufsbilder informieren
 willst.<br />\n<br />\n<strong>Deine Vorteile auf einen
 Blick:</strong><br />\n<br />\n- Knüpfe in entspannter
 Open-Air-Atmosphäre persönliche Kontakte zu zahlreichen Unternehmen
 aus unterschiedlichen Branchen.<br />\n- Profitiere von einem Angebot,
 das speziell auf KIT-Studierende zugeschnitten ist.<br />\n- Erhalte
 kostenlose Beratung, Tipps und CV-Checks des Career Service -
 unkompliziert und ohne Anmeldung.<br />\n- Finde direkt passende
 Stellenangebote für Praktika, Jobs und den Berufseinstieg.<br />\n-
 Spare Zeit und Wege - die Messe findet direkt vor deiner Haustür am KIT
 Campus Süd statt.<br />\n<br />\nDatum der Veranstaltung: 19.05.2026,
 12:00 - 17:00 Uhr<br />\nSprache: Deutsch/Englisch<br />\nFormat:
 Präsenz<br />\nAnmeldung: Keine Anmeldung nötig.</p>\n
DTSTART;TZID=Europe/Berlin:20260519T120000
DTEND;TZID=Europe/Berlin:20260519T170000
LOCATION:Forum vor dem Audimax (Geb. 30.95), KIT Campus Süd 
END:VEVENT
BEGIN:VEVENT
UID: 60784
DTSTAMP:20260421T191929Z
SUMMARY:KIT-Karrieremesse 19.-20. Mai 2026
X-ALT-DESC;FMTTYPE=text/html:<!DOCTYPE HTML PUBLIC "-//W3C//DTD HTML 
 3.2//EN"><HTML><HEAD><TITLE></TITLE></HEAD><BODY>KIT-Karrieremesse 
 19.-20. Mai 2026<br>Forum vor dem Audimax (Geb. 30.95), KIT Campus Süd 
 <br><br><p>Die KIT-Karrieremesse ist die offizielle Firmenkontaktmesse 
 des KIT und richtet sich an Studierende, Promovierende, Alumni und 
 Alumnae aller Fachrichtungen.<br /><br><br /><br><strong>- 
 Wann:</strong> 19.-20. Mai 2026, 12-17 Uhr<br /><br><strong>- 
 Wo:</strong> Forum vor dem Audimax (Geb. 30.95), KIT Campus S&uuml;d<br 
 /><br><strong>- Was:</strong> Job-Open-Air f&uuml;r Studierende, 
 Promovierende und Alumnae/-i des KIT<br /><br><strong>- Wer:</strong> 
 rund 180 Unternehmen und Institutionen (t&auml;glich wechselnd) aus 
 verschiedenen Branchen<br /><br><strong>- Angebot f&uuml;r:</strong> 
 alle Fachrichtungen und Semester<br /><br><strong>- Eintritt:</strong> 
 kostenlos und ohne Anmeldung<br /><br><br /><br><strong>Die Messe ist 
 f&uuml;r dich, wenn du:</strong><br /><br><br /><br>- im Bachelor oder 
 Master studierst oder promovierst oder bereits deinen Abschluss gemacht 
 hast.<br /><br>- schon w&auml;hrend des Studiums Einblicke in 
 Berufsfelder und Unternehmen gewinnen willst,<br /><br>- einen 
 Praktikumsplatz, Werkstudierendenjob oder eine Abschlussarbeit 
 suchst,<br /><br>- kurz vor dem Jobeinstieg stehst und Kontakte zu 
 potenziellen Arbeitgebern kn&uuml;pfen m&ouml;chtest,<br /><br>- dich 
 allgemein &uuml;ber Karrierem&ouml;glichkeiten, Branchen und 
 Berufsbilder informieren willst.<br /><br><br /><br><strong>Deine 
 Vorteile auf einen Blick:</strong><br /><br><br /><br>- Kn&uuml;pfe in 
 entspannter Open-Air-Atmosph&auml;re pers&ouml;nliche Kontakte zu 
 zahlreichen Unternehmen aus unterschiedlichen Branchen.<br /><br>- 
 Profitiere von einem Angebot, das speziell auf KIT-Studierende 
 zugeschnitten ist.<br /><br>- Erhalte kostenlose Beratung, Tipps und 
 CV-Checks des Career Service - unkompliziert und ohne Anmeldung.<br 
 /><br>- Finde direkt passende Stellenangebote f&uuml;r Praktika, Jobs 
 und den Berufseinstieg.<br /><br>- Spare Zeit und Wege - die Messe 
 findet direkt vor deiner Haust&uuml;r am KIT Campus S&uuml;d statt.<br 
 /><br><br /><br>Datum der Veranstaltung: 20.05.2026, 12:00 - 17:00 
 Uhr<br /><br>Sprache: Deutsch/Englisch<br /><br>Format: Pr&auml;senz<br 
 /><br>Anmeldung: Keine Anmeldung n&ouml;tig.</p><br></BODY></HTML>
DESCRIPTION: KIT-Karrieremesse 19.-20. Mai 2026\nForum vor dem Audimax
 (Geb. 30.95), KIT Campus Süd \n\n<p>Die KIT-Karrieremesse ist die
 offizielle Firmenkontaktmesse des KIT und richtet sich an Studierende,
 Promovierende, Alumni und Alumnae aller Fachrichtungen.<br />\n<br
 />\n<strong>- Wann:</strong> 19.-20. Mai 2026, 12-17 Uhr<br
 />\n<strong>- Wo:</strong> Forum vor dem Audimax (Geb. 30.95), KIT
 Campus Süd<br />\n<strong>- Was:</strong> Job-Open-Air für
 Studierende, Promovierende und Alumnae/-i des KIT<br />\n<strong>-
 Wer:</strong> rund 180 Unternehmen und Institutionen (täglich
 wechselnd) aus verschiedenen Branchen<br />\n<strong>- Angebot
 für:</strong> alle Fachrichtungen und Semester<br />\n<strong>-
 Eintritt:</strong> kostenlos und ohne Anmeldung<br />\n<br
 />\n<strong>Die Messe ist für dich, wenn du:</strong><br />\n<br />\n-
 im Bachelor oder Master studierst oder promovierst oder bereits deinen
 Abschluss gemacht hast.<br />\n- schon während des Studiums Einblicke
 in Berufsfelder und Unternehmen gewinnen willst,<br />\n- einen
 Praktikumsplatz, Werkstudierendenjob oder eine Abschlussarbeit
 suchst,<br />\n- kurz vor dem Jobeinstieg stehst und Kontakte zu
 potenziellen Arbeitgebern knüpfen möchtest,<br />\n- dich allgemein
 über Karrieremöglichkeiten, Branchen und Berufsbilder informieren
 willst.<br />\n<br />\n<strong>Deine Vorteile auf einen
 Blick:</strong><br />\n<br />\n- Knüpfe in entspannter
 Open-Air-Atmosphäre persönliche Kontakte zu zahlreichen Unternehmen
 aus unterschiedlichen Branchen.<br />\n- Profitiere von einem Angebot,
 das speziell auf KIT-Studierende zugeschnitten ist.<br />\n- Erhalte
 kostenlose Beratung, Tipps und CV-Checks des Career Service -
 unkompliziert und ohne Anmeldung.<br />\n- Finde direkt passende
 Stellenangebote für Praktika, Jobs und den Berufseinstieg.<br />\n-
 Spare Zeit und Wege - die Messe findet direkt vor deiner Haustür am KIT
 Campus Süd statt.<br />\n<br />\nDatum der Veranstaltung: 20.05.2026,
 12:00 - 17:00 Uhr<br />\nSprache: Deutsch/Englisch<br />\nFormat:
 Präsenz<br />\nAnmeldung: Keine Anmeldung nötig.</p>\n
DTSTART;TZID=Europe/Berlin:20260520T120000
DTEND;TZID=Europe/Berlin:20260520T170000
LOCATION:Forum vor dem Audimax (Geb. 30.95), KIT Campus Süd 
END:VEVENT
END:VCALENDAR
