BEGIN:VCALENDAR
PRODID:Veranstaltungskalender Reallabor Netzwerk
VERSION:2.0
X-WR-CALNAME:Veranstaltungskalender Reallabor Netzwerk
NAME:Veranstaltungskalender Reallabor Netzwerk
REFRESH-INTERVAL;VALUE=DURATION:PT12H
X-PUBLISHED-TTL:PT12H
BEGIN:VTIMEZONE
TZID:Europe/Berlin
TZURL:http://tzurl.org/zoneinfo-outlook/Europe/Berlin
X-LIC-LOCATION:Europe/Berlin
BEGIN:DAYLIGHT
TZOFFSETFROM:+0100
TZOFFSETTO:+0200
TZNAME:CEST
DTSTART:19700329T020000
RRULE:FREQ=YEARLY;BYMONTH=3;BYDAY=-1SU
END:DAYLIGHT
BEGIN:STANDARD
TZOFFSETFROM:+0200
TZOFFSETTO:+0100
TZNAME:CET
DTSTART:19701025T030000
RRULE:FREQ=YEARLY;BYMONTH=10;BYDAY=-1SU
END:STANDARD
END:VTIMEZONE
BEGIN:VEVENT
UID: 58542
DTSTAMP:20260421T195110Z
SUMMARY:Tagung „Reallabore ‚on the road‘ – Bilanz und Ausblick“
X-ALT-DESC;FMTTYPE=text/html:<!DOCTYPE HTML PUBLIC "-//W3C//DTD HTML 
 3.2//EN"><HTML><HEAD><TITLE></TITLE></HEAD><BODY>Tagung 
 &bdquo;Reallabore &sbquo;on the road&lsquo; &ndash; Bilanz und 
 Ausblick&ldquo;<br>Hospitalhof Stuttgart, Büchsenstraße 33, 70174 
 Stuttgart<br><br><p><strong>Reallabore &bdquo;made in THE 
 L&Auml;ND&ldquo; </strong></p><br><br><p> </p><br><br><p>Seit &uuml;ber 
 10 Jahren f&ouml;rdert das Ministerium f&uuml;r Wissenschaft, Forschung 
 und Kunst (MWK) in Baden-W&uuml;rttemberg Reallabore und eine darauf 
 bezogene Begleitforschung und ist damit Vorreiter in der 
 (Weiter-)Entwicklung dieses transdisziplin&auml;ren und transformativen 
 Forschungs- und F&ouml;rderformats. In diesen Reallaboren arbeiten 
 Wissenschaftlerinnen und Wissenschaftler gemeinsam mit Akteuren aus 
 Gesellschaft, Politik und Wirtschaft in einem ergebnisoffenen Prozess an 
 zukunftsf&auml;higen und nachhaltigen L&ouml;sungen f&uuml;r die 
 Gesellschaft. Solche Projekte sind besonders geeignet, um 
 gesellschaftliche Transformationsprozesse zu initiieren, forschend zu 
 begleiten, zu evaluieren und weiterzuentwickeln.</p><br><br><p> 
 </p><br><br><p>Die Bilanz-Tagung verbindet Werkschau, fachliche 
 Diskussion und forschungspolitische Reflexion. Sie richtet sich an die 
 (Fach-)&Ouml;ffentlichkeit, an Mitwirkende an Reallaboren aus Forschung 
 und Praxis innerhalb und au&szlig;erhalb von Baden-W&uuml;rttemberg, an 
 F&ouml;rdergeber und Hochschulverantwortliche wie auch an Vertreterinnen 
 und Vertreter der Landespolitik. Im Mittelpunkt stehen die in 
 Baden-W&uuml;rttemberg gef&ouml;rderten Reallabor-Projekte. Diskutiert 
 werden die erzielten wissenschaftlichen und transformativen 
 Erkenntnisfortschritte und Erfolge, die Herausforderungen des 
 F&ouml;rderformats Reallabor sowie seine Zukunftschancen und die mit dem 
 Format verbundenen spezifischen F&ouml;rder- und 
 Unterst&uuml;tzungsbedarfe. Ziel ist es, Bilanz zu ziehen und 
 gleichzeitig neue Perspektiven zu er&ouml;rtern.</p><br></BODY></HTML>
DESCRIPTION: Tagung „Reallabore ‚on the road‘ – Bilanz und
 Ausblick“\nHospitalhof Stuttgart, Büchsenstraße 33, 70174
 Stuttgart\n\n<p><strong>Reallabore „made in THE LÄND“
 </strong></p>\n\n<p> </p>\n\n<p>Seit über 10 Jahren fördert das
 Ministerium für Wissenschaft, Forschung und Kunst (MWK) in
 Baden-Württemberg Reallabore und eine darauf bezogene Begleitforschung
 und ist damit Vorreiter in der (Weiter-)Entwicklung dieses
 transdisziplinären und transformativen Forschungs- und Förderformats.
 In diesen Reallaboren arbeiten Wissenschaftlerinnen und Wissenschaftler
 gemeinsam mit Akteuren aus Gesellschaft, Politik und Wirtschaft in einem
 ergebnisoffenen Prozess an zukunftsfähigen und nachhaltigen Lösungen
 für die Gesellschaft. Solche Projekte sind besonders geeignet, um
 gesellschaftliche Transformationsprozesse zu initiieren, forschend zu
 begleiten, zu evaluieren und weiterzuentwickeln.</p>\n\n<p>
 </p>\n\n<p>Die Bilanz-Tagung verbindet Werkschau, fachliche Diskussion
 und forschungspolitische Reflexion. Sie richtet sich an die
 (Fach-)Öffentlichkeit, an Mitwirkende an Reallaboren aus Forschung und
 Praxis innerhalb und außerhalb von Baden-Württemberg, an Fördergeber
 und Hochschulverantwortliche wie auch an Vertreterinnen und Vertreter
 der Landespolitik. Im Mittelpunkt stehen die in Baden-Württemberg
 geförderten Reallabor-Projekte. Diskutiert werden die erzielten
 wissenschaftlichen und transformativen Erkenntnisfortschritte und
 Erfolge, die Herausforderungen des Förderformats Reallabor sowie seine
 Zukunftschancen und die mit dem Format verbundenen spezifischen Förder-
 und Unterstützungsbedarfe. Ziel ist es, Bilanz zu ziehen und
 gleichzeitig neue Perspektiven zu erörtern.</p>\n
DTSTART;TZID=Europe/Berlin:20260709
DTEND;TZID=Europe/Berlin:20260709T000000
LOCATION:Hospitalhof Stuttgart, Büchsenstraße 33, 70174 Stuttgart
END:VEVENT
BEGIN:VEVENT
UID: 58256
DTSTAMP:20260421T195110Z
SUMMARY:Reallaborkonferenz 2026: Zurück in die Zukunft? Reallabore in Zeiten
 disruptiven Wandels
X-ALT-DESC;FMTTYPE=text/html:<!DOCTYPE HTML PUBLIC "-//W3C//DTD HTML 
 3.2//EN"><HTML><HEAD><TITLE></TITLE></HEAD><BODY>Reallaborkonferenz 
 2026: Zurück in die Zukunft? Reallabore in Zeiten disruptiven 
 Wandels<br>Technische Hochschule Köln, Campus 
 Leverkusen<br><br><p><strong>Datum: 16.-17. September 
 2026</strong></p><br><br><p> </p><br><br><p>Das <strong>Netzwerk 
 Reallabore der Nachhaltigkeit</strong> und die <strong>TH 
 K&ouml;ln</strong> laden zur Reallaborkonferenz 2026 Wissenschaft, 
 Praxis, Politik, Kommunen, Wirtschaft, Zivilgesellschaft sowie Kultur- 
 und Kreativschaffende ein, die Zukunft der Reallaborforschung und 
 Reallaborpraxis gemeinsam zu gestalten. Im Mittelpunkt stehen Wirkung, 
 Weiterentwicklung und Lernprozesse von Reallaboren in 
 gesellschaftlichen, &ouml;kologischen und technologischen 
 Umbruchzeiten.</p><br><br><p> </p><br><br><ul><br>	<li>Reallabore in 
 gesamtgesellschaftlichen Spannungsfeldern  </li><br>	<li>Reallabore in 
 Zeiten disruptiven Wandels</li><br>	<li>Reallabore in der 
 Alltagspraxis</li><br>	<li>Kunst, Kultur und hybride Experimentier- und 
 Diskursr&auml;ume</li><br>	<li>Wirkungsanalysen, Transferlogiken, 
 Evaluation und Standardisierung</li><br>	<li>Wissenschaftskommunikation 
 und gesellschaftliche Lernprozesse</li><br>	<li>Treiber, H&uuml;rden und 
 regulatorische Rahmenbedingungen</li><br></ul><br><br><p> 
 </p><br><br><p>Die Konferenz versteht sich selbst als 
 &bdquo;Reallaborwerkstatt&ldquo;: interaktiv, experimentell und 
 dialogorientiert. Neben Fachbeitr&auml;gen stehen kollaborative und 
 kreative Formate im Fokus.</p><br><br><p> </p><br><br><p><strong>Call 
 for Abstracts</strong>: <a 
 href="https://www.reallabor-netzwerk.de/reallabor-konferenz-2026_call.ph 
 p" target="_blank">Konferenz-Beitr&auml;ge 
 einreichen</a></p><br></BODY></HTML>
DESCRIPTION: Reallaborkonferenz 2026: Zurück in die Zukunft? Reallabore
 in Zeiten disruptiven Wandels\nTechnische Hochschule Köln, Campus
 Leverkusen\n\n<p><strong>Datum: 16.-17. September
 2026</strong></p>\n\n<p> </p>\n\n<p>Das <strong>Netzwerk Reallabore der
 Nachhaltigkeit</strong> und die <strong>TH Köln</strong> laden zur
 Reallaborkonferenz 2026 Wissenschaft, Praxis, Politik, Kommunen,
 Wirtschaft, Zivilgesellschaft sowie Kultur- und Kreativschaffende ein,
 die Zukunft der Reallaborforschung und Reallaborpraxis gemeinsam zu
 gestalten. Im Mittelpunkt stehen Wirkung, Weiterentwicklung und
 Lernprozesse von Reallaboren in gesellschaftlichen, ökologischen und
 technologischen Umbruchzeiten.</p>\n\n<p> </p>\n\n<ul>\n	<li>Reallabore
 in gesamtgesellschaftlichen Spannungsfeldern  </li>\n	<li>Reallabore in
 Zeiten disruptiven Wandels</li>\n	<li>Reallabore in der
 Alltagspraxis</li>\n	<li>Kunst, Kultur und hybride Experimentier- und
 Diskursräume</li>\n	<li>Wirkungsanalysen, Transferlogiken, Evaluation
 und Standardisierung</li>\n	<li>Wissenschaftskommunikation und
 gesellschaftliche Lernprozesse</li>\n	<li>Treiber, Hürden und
 regulatorische Rahmenbedingungen</li>\n</ul>\n\n<p> </p>\n\n<p>Die
 Konferenz versteht sich selbst als „Reallaborwerkstatt“: interaktiv,
 experimentell und dialogorientiert. Neben Fachbeiträgen stehen
 kollaborative und kreative Formate im Fokus.</p>\n\n<p>
 </p>\n\n<p><strong>Call for Abstracts</strong>: <a
 href="https://www.reallabor-netzwerk.de/reallabor-konferenz-2026_call.ph
 p" target="_blank">Konferenz-Beiträge einreichen</a></p>\n
DTSTART;TZID=Europe/Berlin:20260916
DTEND;TZID=Europe/Berlin:20260916T000000
LOCATION:Technische Hochschule Köln, Campus Leverkusen
END:VEVENT
END:VCALENDAR
