BEGIN:VCALENDAR
PRODID:Veranstaltungen KIT-Fakultät BGU
VERSION:2.0
X-WR-CALNAME:Veranstaltungen KIT-Fakultät BGU
NAME:Veranstaltungen KIT-Fakultät BGU
REFRESH-INTERVAL;VALUE=DURATION:PT12H
X-PUBLISHED-TTL:PT12H
BEGIN:VTIMEZONE
TZID:Europe/Berlin
TZURL:http://tzurl.org/zoneinfo-outlook/Europe/Berlin
X-LIC-LOCATION:Europe/Berlin
BEGIN:DAYLIGHT
TZOFFSETFROM:+0100
TZOFFSETTO:+0200
TZNAME:CEST
DTSTART:19700329T020000
RRULE:FREQ=YEARLY;BYMONTH=3;BYDAY=-1SU
END:DAYLIGHT
BEGIN:STANDARD
TZOFFSETFROM:+0200
TZOFFSETTO:+0100
TZNAME:CET
DTSTART:19701025T030000
RRULE:FREQ=YEARLY;BYMONTH=10;BYDAY=-1SU
END:STANDARD
END:VTIMEZONE
BEGIN:VEVENT
UID: 59564
DTSTAMP:20260421T195542Z
SUMMARY:Ist der Wurm drin?
X-ALT-DESC;FMTTYPE=text/html:<!DOCTYPE HTML PUBLIC "-//W3C//DTD HTML 
 3.2//EN"><HTML><HEAD><TITLE></TITLE></HEAD><BODY>Ist der Wurm drin?<br>  
  <br><br><p>Hast du das Gef&uuml;hl, dein Studienfach ist eigentlich das 
 richtige, aber trotzdem l&auml;uft es nicht so, wie du es dir 
 vorgestellt hast? Die Ursachen hierf&uuml;r k&ouml;nnen vielf&auml;ltig 
 sein: Motivations- oder &Uuml;berlastungsprobleme, 
 Pr&uuml;fungs&auml;ngste, fehlende Lernpartnerinnen oder Lernpartner, zu 
 lange Wegstrecken, finanzielle Sorgen, u.v.m. Das KIT hat f&uuml;r 
 (fast) alles Unterst&uuml;tzungsangebote, du muss sie nur finden und 
 nutzen. Diese Veranstaltung dient dir als Wegweiser durch den 
 Beratungsdschungel des KIT und zeigt dir auf, wie du dein Studium in den 
 Griff bekommen kannst. Du hast w&auml;hrend der Veranstaltung 
 nat&uuml;rlich auch die M&ouml;glichkeit, in den Austausch mit anderen 
 zu kommen, denen es &auml;hnlich geht.</p><br><br><p> </p><br><br><p>Die 
 Veranstaltung findet in deutscher Sprache statt. Eine Anmeldung ist nur 
 bis 12:00 Uhr am Vortag m&ouml;glich.</p><br><br><p> 
 </p><br><br><p><em>Hinweis: Die Veranstaltung findet &uuml;ber zoom 
 statt. Zeitnah vor Veranstaltungsbeginn wird der Link zum Meetingraum 
 per Email an die bei der Anmeldung benutzten Emailadresse verschickt. Um 
 an der Veranstaltung teilzunehmen, wird ein Laptop, Tablet oder Handy 
 mit Internetzugang, Mikrofon und Kamera ben&ouml;tigt. 
 </em></p><br></BODY></HTML>
DESCRIPTION: Ist der Wurm drin?\n   \n\n<p>Hast du das Gefühl, dein
 Studienfach ist eigentlich das richtige, aber trotzdem läuft es nicht
 so, wie du es dir vorgestellt hast? Die Ursachen hierfür können
 vielfältig sein: Motivations- oder Überlastungsprobleme,
 Prüfungsängste, fehlende Lernpartnerinnen oder Lernpartner, zu lange
 Wegstrecken, finanzielle Sorgen, u.v.m. Das KIT hat für (fast) alles
 Unterstützungsangebote, du muss sie nur finden und nutzen. Diese
 Veranstaltung dient dir als Wegweiser durch den Beratungsdschungel des
 KIT und zeigt dir auf, wie du dein Studium in den Griff bekommen kannst.
 Du hast während der Veranstaltung natürlich auch die Möglichkeit, in
 den Austausch mit anderen zu kommen, denen es ähnlich geht.</p>\n\n<p>
 </p>\n\n<p>Die Veranstaltung findet in deutscher Sprache statt. Eine
 Anmeldung ist nur bis 12:00 Uhr am Vortag möglich.</p>\n\n<p>
 </p>\n\n<p><em>Hinweis: Die Veranstaltung findet über zoom statt.
 Zeitnah vor Veranstaltungsbeginn wird der Link zum Meetingraum per Email
 an die bei der Anmeldung benutzten Emailadresse verschickt. Um an der
 Veranstaltung teilzunehmen, wird ein Laptop, Tablet oder Handy mit
 Internetzugang, Mikrofon und Kamera benötigt. </em></p>\n
DTSTART;TZID=Europe/Berlin:20260423T110000
DTEND;TZID=Europe/Berlin:20260423T120000
LOCATION:   
END:VEVENT
BEGIN:VEVENT
UID: 59960
DTSTAMP:20260421T195542Z
SUMMARY:Bauingenieurwesen studieren am KIT
X-ALT-DESC;FMTTYPE=text/html:<!DOCTYPE HTML PUBLIC "-//W3C//DTD HTML 
 3.2//EN"><HTML><HEAD><TITLE></TITLE></HEAD><BODY>Bauingenieurwesen 
 studieren am KIT<br>   <br><br><p>Du interessierst dich f&uuml;r den 
 Bachelorstudiengang &bdquo;Bauingenieurwesen&ldquo; am Karlsruher 
 Institut f&uuml;r Technologie (KIT)? - Dann ist diese Infoveranstaltung 
 der Zentralen Studienberatung (ZSB) sicherlich genau das richtige 
 Angebot f&uuml;r dich!</p><br><br><p> </p><br><br><p>Vorgestellt werden: 
 Lerninhalte, Aufbau und Qualifikationsziele des Studienganges sowie 
 Berufsperspektiven und der Weg in den konsekutiven Master. Des Weiteren 
 wird es gehen um die formalen Zugangsvoraussetzungen zum Studium, den 
 Bewerbungsprozess insgesamt sowie das hochschuleigene Auswahlverfahren. 
 Wir nehmen au&szlig;erdem die Besonderheiten des Studienganges am KIT im 
 Vergleich zu anderen Hochschul(art)en in den Blick und du lernst 
 m&ouml;gliche weitere Kriterien f&uuml;r deine pers&ouml;nliche 
 Studienentscheidung kennen. Ein aktives Mitwirken deinerseits durch 
 Fragen, Fragen, Fragen ist ausdr&uuml;cklich 
 erw&uuml;nscht!</p><br><br><p> </p><br><br><p>Die Veranstaltung findet 
 in deutscher Sprache statt. Eine Anmeldung ist nur bis zum 12.06.26 um 
 12.00 Uhr am Vortag m&ouml;glich.</p><br><br><p> 
 </p><br><br><p><em>Hinweis: Die Veranstaltung findet &uuml;ber zoom 
 statt. Zeitnah vor Veranstaltungsbeginn wird der Link zum Meetingraum 
 per Email an die bei der Anmeldung benutzten Emailadresse verschickt. Um 
 an der Veranstaltung teilzunehmen, wird ein Laptop, Tablet oder Handy 
 mit Internetzugang, Mikrofon und Kamera 
 ben&ouml;tigt.</em></p><br></BODY></HTML>
DESCRIPTION: Bauingenieurwesen studieren am KIT\n   \n\n<p>Du
 interessierst dich für den Bachelorstudiengang „Bauingenieurwesen“
 am Karlsruher Institut für Technologie (KIT)? - Dann ist diese
 Infoveranstaltung der Zentralen Studienberatung (ZSB) sicherlich genau
 das richtige Angebot für dich!</p>\n\n<p> </p>\n\n<p>Vorgestellt
 werden: Lerninhalte, Aufbau und Qualifikationsziele des Studienganges
 sowie Berufsperspektiven und der Weg in den konsekutiven Master. Des
 Weiteren wird es gehen um die formalen Zugangsvoraussetzungen zum
 Studium, den Bewerbungsprozess insgesamt sowie das hochschuleigene
 Auswahlverfahren. Wir nehmen außerdem die Besonderheiten des
 Studienganges am KIT im Vergleich zu anderen Hochschul(art)en in den
 Blick und du lernst mögliche weitere Kriterien für deine persönliche
 Studienentscheidung kennen. Ein aktives Mitwirken deinerseits durch
 Fragen, Fragen, Fragen ist ausdrücklich erwünscht!</p>\n\n<p>
 </p>\n\n<p>Die Veranstaltung findet in deutscher Sprache statt. Eine
 Anmeldung ist nur bis zum 12.06.26 um 12.00 Uhr am Vortag
 möglich.</p>\n\n<p> </p>\n\n<p><em>Hinweis: Die Veranstaltung findet
 über zoom statt. Zeitnah vor Veranstaltungsbeginn wird der Link zum
 Meetingraum per Email an die bei der Anmeldung benutzten Emailadresse
 verschickt. Um an der Veranstaltung teilzunehmen, wird ein Laptop,
 Tablet oder Handy mit Internetzugang, Mikrofon und Kamera
 benötigt.</em></p>\n
DTSTART;TZID=Europe/Berlin:20260615T160000
DTEND;TZID=Europe/Berlin:20260615T173000
LOCATION:   
END:VEVENT
BEGIN:VEVENT
UID: 59964
DTSTAMP:20260421T195542Z
SUMMARY:Geo- und Umweltwissenschaften studieren am KIT
X-ALT-DESC;FMTTYPE=text/html:<!DOCTYPE HTML PUBLIC "-//W3C//DTD HTML 
 3.2//EN"><HTML><HEAD><TITLE></TITLE></HEAD><BODY>Geo- und 
 Umweltwissenschaften studieren am KIT<br>   <br><br><p>Du interessierst 
 dich f&uuml;r die Bachelorstudieng&auml;nge &bdquo;Angewandte 
 Geowissenschaften&ldquo;, &bdquo;Geod&auml;sie und Geoinformatik&ldquo; 
 und &bdquo;Geo&ouml;kologie&ldquo; am Karlsruher Institut f&uuml;r 
 Technologie (KIT)? - Dann ist diese Infoveranstaltung der Zentralen 
 Studienberatung (ZSB) sicherlich genau das richtige Angebot f&uuml;r 
 dich!</p><br><br><p> </p><br><br><p>Vorgestellt werden: Lerninhalte, 
 Aufbau und Qualifikationsziele der Studieng&auml;nge sowie 
 Berufsperspektiven und der Weg in den konsekutiven Master. Des Weiteren 
 wird es gehen um die formalen Zugangsvoraussetzungen zum Studium, den 
 Bewerbungsprozess insgesamt sowie das hochschuleigene Auswahlverfahren. 
 Wir nehmen au&szlig;erdem die Besonderheiten der Studieng&auml;nge am 
 KIT im Vergleich zu anderen Hochschul(art)en in den Blick und du lernst 
 m&ouml;gliche weitere Kriterien f&uuml;r deine pers&ouml;nliche 
 Studienentscheidung kennen. Ein aktives Mitwirken deinerseits durch 
 Fragen, Fragen, Fragen ist ausdr&uuml;cklich 
 erw&uuml;nscht!</p><br><br><p> </p><br><br><p>Die Veranstaltung findet 
 in deutscher Sprache statt. Eine Anmeldung ist nur bis zum Vortag um 
 12.00 Uhr m&ouml;glich.</p><br><br><p> </p><br><br><p><em>Hinweis: Die 
 Veranstaltung findet &uuml;ber zoom statt. Zeitnah vor 
 Veranstaltungsbeginn wird der Link zum Meetingraum per Email an die bei 
 der Anmeldung benutzten Emailadresse verschickt. Um an der Veranstaltung 
 teilzunehmen, wird ein Laptop, Tablet oder Handy mit Internetzugang, 
 Mikrofon und Kamera ben&ouml;tigt.</em></p><br></BODY></HTML>
DESCRIPTION: Geo- und Umweltwissenschaften studieren am KIT\n  
 \n\n<p>Du interessierst dich für die Bachelorstudiengänge
 „Angewandte Geowissenschaften“, „Geodäsie und Geoinformatik“
 und „Geoökologie“ am Karlsruher Institut für Technologie (KIT)? -
 Dann ist diese Infoveranstaltung der Zentralen Studienberatung (ZSB)
 sicherlich genau das richtige Angebot für dich!</p>\n\n<p>
 </p>\n\n<p>Vorgestellt werden: Lerninhalte, Aufbau und
 Qualifikationsziele der Studiengänge sowie Berufsperspektiven und der
 Weg in den konsekutiven Master. Des Weiteren wird es gehen um die
 formalen Zugangsvoraussetzungen zum Studium, den Bewerbungsprozess
 insgesamt sowie das hochschuleigene Auswahlverfahren. Wir nehmen
 außerdem die Besonderheiten der Studiengänge am KIT im Vergleich zu
 anderen Hochschul(art)en in den Blick und du lernst mögliche weitere
 Kriterien für deine persönliche Studienentscheidung kennen. Ein
 aktives Mitwirken deinerseits durch Fragen, Fragen, Fragen ist
 ausdrücklich erwünscht!</p>\n\n<p> </p>\n\n<p>Die Veranstaltung findet
 in deutscher Sprache statt. Eine Anmeldung ist nur bis zum Vortag um
 12.00 Uhr möglich.</p>\n\n<p> </p>\n\n<p><em>Hinweis: Die Veranstaltung
 findet über zoom statt. Zeitnah vor Veranstaltungsbeginn wird der Link
 zum Meetingraum per Email an die bei der Anmeldung benutzten
 Emailadresse verschickt. Um an der Veranstaltung teilzunehmen, wird ein
 Laptop, Tablet oder Handy mit Internetzugang, Mikrofon und Kamera
 benötigt.</em></p>\n
DTSTART;TZID=Europe/Berlin:20260616T150000
DTEND;TZID=Europe/Berlin:20260616T163000
LOCATION:   
END:VEVENT
BEGIN:VEVENT
UID: 57882
DTSTAMP:20260421T195542Z
SUMMARY:Abschlussfeier der KIT-Fakultät für Bauingenieur-, Geo- und
 Umweltwissenschaften
X-ALT-DESC;FMTTYPE=text/html:<!DOCTYPE HTML PUBLIC "-//W3C//DTD HTML 
 3.2//EN"><HTML><HEAD><TITLE></TITLE></HEAD><BODY>Abschlussfeier der 
 KIT-Fakultät für Bauingenieur-, Geo- und Umweltwissenschaften<br>KIT 
 Campus Süd,, Geb. 11.40, Tulla-Hörsaal, Raum 103,, Englerstr. 11, 
 76131 Karlsruhe<br><br><p>Wir laden Sie herzlich zu unserer 
 Abschlussfeier ein, in deren Rahmen die Masterabsolventinnen und 
 Masterabsolventen sowie die Doktoranden geehrt werden. Zudem findet die 
 &Uuml;bergabe der Urkunden zum 50-j&auml;hrigen Doktor-Jubil&auml;um 
 sowie die Vergabe der Fakult&auml;tspreise statt.</p><br><br><p> 
 </p><br><br><p>Im Anschluss laden Sie die KIT-Fakult&auml;t BGU und die 
 BGU-Fachschaften herzlich zu einem Umtrunk ein.</p><br><br><p> 
 </p><br><br><p>F&uuml;r die Anmeldung werden Ihre Daten verarbeitet und 
 gespeichert. Zudem werden w&auml;hrend der Veranstaltung Fotografien 
 bzw. Videoaufnahmen zum Zweck der &Ouml;ffentlichkeitsarbeit 
 angefertigt. Bitte beachten Sie die in diesem Zusammenhang <strong><a 
 href="https://www.bgu.kit.edu/3590.php" target="_blank" title="Hinweise 
 zum Datenschutz und Fotoaufnahmen">geltenden Regelungen und 
 Hinweise</a>.</strong></p><br></BODY></HTML>
DESCRIPTION: Abschlussfeier der KIT-Fakultät für Bauingenieur-, Geo-
 und Umweltwissenschaften\nKIT Campus Süd,, Geb. 11.40, Tulla-Hörsaal,
 Raum 103,, Englerstr. 11, 76131 Karlsruhe\n\n<p>Wir laden Sie herzlich
 zu unserer Abschlussfeier ein, in deren Rahmen die Masterabsolventinnen
 und Masterabsolventen sowie die Doktoranden geehrt werden. Zudem findet
 die Übergabe der Urkunden zum 50-jährigen Doktor-Jubiläum sowie die
 Vergabe der Fakultätspreise statt.</p>\n\n<p> </p>\n\n<p>Im Anschluss
 laden Sie die KIT-Fakultät BGU und die BGU-Fachschaften herzlich zu
 einem Umtrunk ein.</p>\n\n<p> </p>\n\n<p>Für die Anmeldung werden Ihre
 Daten verarbeitet und gespeichert. Zudem werden während der
 Veranstaltung Fotografien bzw. Videoaufnahmen zum Zweck der
 Öffentlichkeitsarbeit angefertigt. Bitte beachten Sie die in diesem
 Zusammenhang <strong><a href="https://www.bgu.kit.edu/3590.php"
 target="_blank" title="Hinweise zum Datenschutz und
 Fotoaufnahmen">geltenden Regelungen und Hinweise</a>.</strong></p>\n
DTSTART;TZID=Europe/Berlin:20260703T143000
DTEND;TZID=Europe/Berlin:20260703T170000
LOCATION:KIT Campus Süd,, Geb. 11.40, Tulla-Hörsaal, Raum 103,,
 Englerstr. 11, 76131 Karlsruhe
END:VEVENT
END:VCALENDAR
