BEGIN:VCALENDAR
PRODID:SECUSO Events
VERSION:2.0
X-WR-CALNAME:SECUSO Events
NAME:SECUSO Events
REFRESH-INTERVAL;VALUE=DURATION:PT12H
X-PUBLISHED-TTL:PT12H
BEGIN:VTIMEZONE
TZID:Europe/Berlin
TZURL:http://tzurl.org/zoneinfo-outlook/Europe/Berlin
X-LIC-LOCATION:Europe/Berlin
BEGIN:DAYLIGHT
TZOFFSETFROM:+0100
TZOFFSETTO:+0200
TZNAME:CEST
DTSTART:19700329T020000
RRULE:FREQ=YEARLY;BYMONTH=3;BYDAY=-1SU
END:DAYLIGHT
BEGIN:STANDARD
TZOFFSETFROM:+0200
TZOFFSETTO:+0100
TZNAME:CET
DTSTART:19701025T030000
RRULE:FREQ=YEARLY;BYMONTH=10;BYDAY=-1SU
END:STANDARD
END:VTIMEZONE
BEGIN:VEVENT
UID: 61246
DTSTAMP:20260421T214015Z
SUMMARY:E-Vote-ID 2026
X-ALT-DESC;FMTTYPE=text/html:<!DOCTYPE HTML PUBLIC "-//W3C//DTD HTML 
 3.2//EN"><HTML><HEAD><TITLE></TITLE></HEAD><BODY>E-Vote-ID 
 2026<br>Tallinn, Estonia<br><br></BODY></HTML>
DESCRIPTION: E-Vote-ID 2026\nTallinn, Estonia\n\n
DTSTART;TZID=Europe/Berlin:20261026
DTEND;TZID=Europe/Berlin:20261026T000000
LOCATION:Tallinn, Estonia
END:VEVENT
BEGIN:VEVENT
UID: 61247
DTSTAMP:20260421T214015Z
SUMMARY:41. AIK-Symposium
X-ALT-DESC;FMTTYPE=text/html:<!DOCTYPE HTML PUBLIC "-//W3C//DTD HTML 
 3.2//EN"><HTML><HEAD><TITLE></TITLE></HEAD><BODY>41. 
 AIK-Symposium<br>Karlsruhe, Deutschland<br><br></BODY></HTML>
DESCRIPTION: 41. AIK-Symposium\nKarlsruhe, Deutschland\n\n
DTSTART;TZID=Europe/Berlin:20261106
DTEND;TZID=Europe/Berlin:20261106T000000
LOCATION:Karlsruhe, Deutschland
END:VEVENT
END:VCALENDAR
