BEGIN:VCALENDAR
PRODID:Veranstaltungen an der KIT-Fakultät für Architektur
VERSION:2.0
X-WR-CALNAME:Veranstaltungen an der KIT-Fakultät für Architektur
NAME:Veranstaltungen an der KIT-Fakultät für Architektur
REFRESH-INTERVAL;VALUE=DURATION:PT12H
X-PUBLISHED-TTL:PT12H
BEGIN:VTIMEZONE
TZID:Europe/Berlin
TZURL:http://tzurl.org/zoneinfo-outlook/Europe/Berlin
X-LIC-LOCATION:Europe/Berlin
BEGIN:DAYLIGHT
TZOFFSETFROM:+0100
TZOFFSETTO:+0200
TZNAME:CEST
DTSTART:19700329T020000
RRULE:FREQ=YEARLY;BYMONTH=3;BYDAY=-1SU
END:DAYLIGHT
BEGIN:STANDARD
TZOFFSETFROM:+0200
TZOFFSETTO:+0100
TZNAME:CET
DTSTART:19701025T030000
RRULE:FREQ=YEARLY;BYMONTH=10;BYDAY=-1SU
END:STANDARD
END:VTIMEZONE
BEGIN:VEVENT
UID: 61355
DTSTAMP:20260423T044141Z
SUMMARY:Festakt zur Verleihung der Ehrendoktorwürde an Matthias Schuler
X-ALT-DESC;FMTTYPE=text/html:<!DOCTYPE HTML PUBLIC "-//W3C//DTD HTML 
 3.2//EN"><HTML><HEAD><TITLE></TITLE></HEAD><BODY>Festakt zur Verleihung 
 der Ehrendoktorwürde an Matthias Schuler<br>Fritz-Haller-Hörsaal, 
 KIT-Fakultät für Architektur, Englerstraße 7, 76131 
 Karlsruhe<br><br></BODY></HTML>
DESCRIPTION: Festakt zur Verleihung der Ehrendoktorwürde an Matthias
 Schuler\nFritz-Haller-Hörsaal, KIT-Fakultät für Architektur,
 Englerstraße 7, 76131 Karlsruhe\n\n
DTSTART;TZID=Europe/Berlin:20260520T180000
DTEND;TZID=Europe/Berlin:20260520T235900
LOCATION:Fritz-Haller-Hörsaal, KIT-Fakultät für Architektur,
 Englerstraße 7, 76131 Karlsruhe
END:VEVENT
BEGIN:VEVENT
UID: 61351
DTSTAMP:20260423T044141Z
SUMMARY:SKIZZENWERK 2026 – IN TUNE/Von wegen leer 
X-ALT-DESC;FMTTYPE=text/html:<!DOCTYPE HTML PUBLIC "-//W3C//DTD HTML 
 3.2//EN"><HTML><HEAD><TITLE></TITLE></HEAD><BODY>SKIZZENWERK 2026 
 &ndash; IN TUNE/Von wegen leer <br>Fritz-Haller-Hörsaal, KIT-Fakultät 
 für Architektur, Englerstraße 7, 76131 
 Karlsruhe<br><br><p>vonwegenleer &ndash; das sind Leona Erdmann, Juli 
 Sottorf und Emma Stiehle. Kennengelernt haben sie sich im 
 Architektur-Bachelorstudium an der Hafencity Universit&auml;t Hamburg. 
 Ihre Bachelorthesen widmeten sie dem Thema Wohnzwischennutzung im 
 B&uuml;roleerstand.</p><br><br><p>Daraus entstand im September 2024 das 
 Kollektiv vonwegenleer und etwas sp&auml;ter die Erdmann, Sottorf und 
 Stiehle GbR. Seitdem besch&auml;ftigen sie sich mit dem Potenzial 
 leerstehender B&uuml;rogeb&auml;ude &ndash; nicht als dauerhafte 
 Wohnl&ouml;sung, sondern als Chance f&uuml;r tempor&auml;re 
 Nutzungen.<br /><br>Im Fokus steht die Frage, was m&ouml;glich wird, 
 wenn R&auml;ume anders gedacht werden.</p><br></BODY></HTML>
DESCRIPTION: SKIZZENWERK 2026 – IN TUNE/Von wegen leer
 \nFritz-Haller-Hörsaal, KIT-Fakultät für Architektur, Englerstraße
 7, 76131 Karlsruhe\n\n<p>vonwegenleer – das sind Leona Erdmann, Juli
 Sottorf und Emma Stiehle. Kennengelernt haben sie sich im
 Architektur-Bachelorstudium an der Hafencity Universität Hamburg. Ihre
 Bachelorthesen widmeten sie dem Thema Wohnzwischennutzung im
 Büroleerstand.</p>\n\n<p>Daraus entstand im September 2024 das
 Kollektiv vonwegenleer und etwas später die Erdmann, Sottorf und
 Stiehle GbR. Seitdem beschäftigen sie sich mit dem Potenzial
 leerstehender Bürogebäude – nicht als dauerhafte Wohnlösung,
 sondern als Chance für temporäre Nutzungen.<br />\nIm Fokus steht die
 Frage, was möglich wird, wenn Räume anders gedacht werden.</p>\n
DTSTART;TZID=Europe/Berlin:20260603
DTEND;TZID=Europe/Berlin:20260603T000000
LOCATION:Fritz-Haller-Hörsaal, KIT-Fakultät für Architektur,
 Englerstraße 7, 76131 Karlsruhe
END:VEVENT
BEGIN:VEVENT
UID: 61352
DTSTAMP:20260423T044141Z
SUMMARY:SKIZZENWERK 2026 – IN TUNE/Opposite office
X-ALT-DESC;FMTTYPE=text/html:<!DOCTYPE HTML PUBLIC "-//W3C//DTD HTML 
 3.2//EN"><HTML><HEAD><TITLE></TITLE></HEAD><BODY>SKIZZENWERK 2026 
 &ndash; IN TUNE/Opposite office<br>Fritz-Haller-Hörsaal, KIT-Fakultät 
 für Architektur, Englerstraße 7, 76131 Karlsruhe<br><br><p>Das 
 M&uuml;nchner B&uuml;ro Opposite Office des Architekten Benedikt Hartl 
 besch&auml;ftigt sich mit spekulativer und politischer Architektur. 
 F&uuml;r ihn ist Architektur nicht nur an die physische Realisierung 
 gebunden, sondern ein Mittel, um auf gesellschaftliche und politische 
 Fragen zu reagieren. In kurzer Zeit entstehen provokative Szenarien und 
 Visionen, die zeigen, wie bestehende Geb&auml;ude und Strukturen 
 tempor&auml;r umgenutzt werden k&ouml;nnen.<br /><br>Hartl kritisiert 
 dabei aktuelle gesellschaftliche Entwicklungen: Gro&szlig;e 
 Transformationen wie Klimawandel, Digitalisierung oder Migration werden 
 oft erst ernst genommen, wenn Probleme bereits fortgeschritten sind. 
 Statt langfristig zu planen, reagiert die Gesellschaft meist nur 
 kurzfristig auf Krisen.<br /><br>Zudem weist Hartl darauf hin, dass sich 
 die Rolle der Architektur im gesellschaftlichen Diskurs ver&auml;ndert 
 hat. Zukunftsbilder entstehen heute h&auml;ufig auch au&szlig;erhalb der 
 Disziplin. Seine Arbeit versteht er daher als Beitrag, neue Perspektiven 
 zu er&ouml;ffnen und Diskussionen 
 anzusto&szlig;en.</p><br></BODY></HTML>
DESCRIPTION: SKIZZENWERK 2026 – IN TUNE/Opposite
 office\nFritz-Haller-Hörsaal, KIT-Fakultät für Architektur,
 Englerstraße 7, 76131 Karlsruhe\n\n<p>Das Münchner Büro Opposite
 Office des Architekten Benedikt Hartl beschäftigt sich mit spekulativer
 und politischer Architektur. Für ihn ist Architektur nicht nur an die
 physische Realisierung gebunden, sondern ein Mittel, um auf
 gesellschaftliche und politische Fragen zu reagieren. In kurzer Zeit
 entstehen provokative Szenarien und Visionen, die zeigen, wie bestehende
 Gebäude und Strukturen temporär umgenutzt werden können.<br />\nHartl
 kritisiert dabei aktuelle gesellschaftliche Entwicklungen: Große
 Transformationen wie Klimawandel, Digitalisierung oder Migration werden
 oft erst ernst genommen, wenn Probleme bereits fortgeschritten sind.
 Statt langfristig zu planen, reagiert die Gesellschaft meist nur
 kurzfristig auf Krisen.<br />\nZudem weist Hartl darauf hin, dass sich
 die Rolle der Architektur im gesellschaftlichen Diskurs verändert hat.
 Zukunftsbilder entstehen heute häufig auch außerhalb der Disziplin.
 Seine Arbeit versteht er daher als Beitrag, neue Perspektiven zu
 eröffnen und Diskussionen anzustoßen.</p>\n
DTSTART;TZID=Europe/Berlin:20260610
DTEND;TZID=Europe/Berlin:20260610T000000
LOCATION:Fritz-Haller-Hörsaal, KIT-Fakultät für Architektur,
 Englerstraße 7, 76131 Karlsruhe
END:VEVENT
BEGIN:VEVENT
UID: 61353
DTSTAMP:20260423T044141Z
SUMMARY:SKIZZENWERK 2026 – IN TUNE/Something fantastic
X-ALT-DESC;FMTTYPE=text/html:<!DOCTYPE HTML PUBLIC "-//W3C//DTD HTML 
 3.2//EN"><HTML><HEAD><TITLE></TITLE></HEAD><BODY>SKIZZENWERK 2026 
 &ndash; IN TUNE/Something fantastic<br>Fritz-Haller-Hörsaal, 
 KIT-Fakultät für Architektur, Englerstraße 7, 76131 
 Karlsruhe<br><br><p>Something Fantastic wurde von Elena Sch&uuml;tz, 
 Julian Schubert und Leonard Streich nach ihrem Architekturstudium an der 
 UdK Berlin gegr&uuml;ndet. Ihr architektonischer Ansatz basiert auf der 
 Vorstellung, dass Architektur in engem Zusammenhang mit 
 gesellschaftlichen, kulturellen und r&auml;umlichen Prozessen steht. 
 Daraus ergibt sich ein interdisziplin&auml;res Arbeiten, das &uuml;ber 
 klassische Planungsmethoden hinausgeht.<br /><br>Das B&uuml;ro agiert im 
 erweiterten Feld von Architektur und verfolgt das Ziel, durch einfache, 
 kluge und prototypische Projekte konkrete Ver&auml;nderungen zu 
 bewirken. Im Mittelpunkt steht dabei nicht der Neubau, sondern der 
 Umgang mit bestehenden Strukturen, die durch minimale Eingriffe 
 transformiert und neu genutzt werden.<br /><br>R&auml;ume werden als 
 flexible und ver&auml;nderbare Systeme verstanden, die sich an 
 unterschiedliche Nutzungen anpassen k&ouml;nnen. Architektur erscheint 
 so als offener, prozesshafter Eingriff, der auf dynamische urbane und 
 soziale Entwicklungen reagiert.</p><br></BODY></HTML>
DESCRIPTION: SKIZZENWERK 2026 – IN TUNE/Something
 fantastic\nFritz-Haller-Hörsaal, KIT-Fakultät für Architektur,
 Englerstraße 7, 76131 Karlsruhe\n\n<p>Something Fantastic wurde von
 Elena Schütz, Julian Schubert und Leonard Streich nach ihrem
 Architekturstudium an der UdK Berlin gegründet. Ihr architektonischer
 Ansatz basiert auf der Vorstellung, dass Architektur in engem
 Zusammenhang mit gesellschaftlichen, kulturellen und räumlichen
 Prozessen steht. Daraus ergibt sich ein interdisziplinäres Arbeiten,
 das über klassische Planungsmethoden hinausgeht.<br />\nDas Büro
 agiert im erweiterten Feld von Architektur und verfolgt das Ziel, durch
 einfache, kluge und prototypische Projekte konkrete Veränderungen zu
 bewirken. Im Mittelpunkt steht dabei nicht der Neubau, sondern der
 Umgang mit bestehenden Strukturen, die durch minimale Eingriffe
 transformiert und neu genutzt werden.<br />\nRäume werden als flexible
 und veränderbare Systeme verstanden, die sich an unterschiedliche
 Nutzungen anpassen können. Architektur erscheint so als offener,
 prozesshafter Eingriff, der auf dynamische urbane und soziale
 Entwicklungen reagiert.</p>\n
DTSTART;TZID=Europe/Berlin:20260617
DTEND;TZID=Europe/Berlin:20260617T000000
LOCATION:Fritz-Haller-Hörsaal, KIT-Fakultät für Architektur,
 Englerstraße 7, 76131 Karlsruhe
END:VEVENT
BEGIN:VEVENT
UID: 61354
DTSTAMP:20260423T044141Z
SUMMARY:SKIZZENWERK 2026 – IN TUNE / Jesko Fezer
X-ALT-DESC;FMTTYPE=text/html:<!DOCTYPE HTML PUBLIC "-//W3C//DTD HTML 
 3.2//EN"><HTML><HEAD><TITLE></TITLE></HEAD><BODY>SKIZZENWERK 2026 
 &ndash; IN TUNE / Jesko Fezer<br>Fritz-Haller-Hörsaal, KIT-Fakultät 
 für Architektur, Englerstraße 7, 76131 Karlsruhe<br><br><p>Am letzten 
 Termin laden wir zu einer Theorierunde ein, bei der Theoretiker 
 gemeinsam mit Jesko Fezer &uuml;ber unser Thema sprechen werden.<br 
 /><br>Jesko Fezer ist Professor f&uuml;r Experimentelles Design an der 
 HFBK Hamburg. Er arbeitet als Gestalter und setzt sich sowohl praktisch 
 als auch theoretisch mit der gesellschaftlichen Bedeutung von Design 
 auseinander.Unter anderem ist er am B&uuml;ro ifau beteiligt, 
 Mitbegr&uuml;nder der Berliner Buchhandlung Pro qm und Teil eines 
 Studios f&uuml;r Ausstellungsgestaltung. Zudem ist er Mitherausgeber 
 mehrerer Fachpublikationen im Bereich Architektur und 
 Design.</p><br></BODY></HTML>
DESCRIPTION: SKIZZENWERK 2026 – IN TUNE / Jesko
 Fezer\nFritz-Haller-Hörsaal, KIT-Fakultät für Architektur,
 Englerstraße 7, 76131 Karlsruhe\n\n<p>Am letzten Termin laden wir zu
 einer Theorierunde ein, bei der Theoretiker gemeinsam mit Jesko Fezer
 über unser Thema sprechen werden.<br />\nJesko Fezer ist Professor für
 Experimentelles Design an der HFBK Hamburg. Er arbeitet als Gestalter
 und setzt sich sowohl praktisch als auch theoretisch mit der
 gesellschaftlichen Bedeutung von Design auseinander.Unter anderem ist er
 am Büro ifau beteiligt, Mitbegründer der Berliner Buchhandlung Pro qm
 und Teil eines Studios für Ausstellungsgestaltung. Zudem ist er
 Mitherausgeber mehrerer Fachpublikationen im Bereich Architektur und
 Design.</p>\n
DTSTART;TZID=Europe/Berlin:20260624
DTEND;TZID=Europe/Berlin:20260624T000000
LOCATION:Fritz-Haller-Hörsaal, KIT-Fakultät für Architektur,
 Englerstraße 7, 76131 Karlsruhe
END:VEVENT
BEGIN:VEVENT
UID: 61518
DTSTAMP:20260423T044141Z
SUMMARY:Antrittsvorlesung Prof.’in Stéphanie Bru
X-ALT-DESC;FMTTYPE=text/html:<!DOCTYPE HTML PUBLIC "-//W3C//DTD HTML 
 3.2//EN"><HTML><HEAD><TITLE></TITLE></HEAD><BODY>Antrittsvorlesung 
 Prof.&rsquo;in Stéphanie Bru<br>Fritz-Haller-Hörsaal, KIT-Fakultät 
 für Architektur, Englerstraße 7, 76131 Karlsruhe <br><br><p>Professur 
 Geb&auml;udelehre</p><br></BODY></HTML>
DESCRIPTION: Antrittsvorlesung Prof.’in Stéphanie
 Bru\nFritz-Haller-Hörsaal, KIT-Fakultät für Architektur,
 Englerstraße 7, 76131 Karlsruhe \n\n<p>Professur Gebäudelehre</p>\n
DTSTART;TZID=Europe/Berlin:20260701T190000
DTEND;TZID=Europe/Berlin:20260701T235900
LOCATION:Fritz-Haller-Hörsaal, KIT-Fakultät für Architektur,
 Englerstraße 7, 76131 Karlsruhe 
END:VEVENT
BEGIN:VEVENT
UID: 61519
DTSTAMP:20260423T044141Z
SUMMARY:Antrittsvorlesung Prof.’in Andrea Klinge
X-ALT-DESC;FMTTYPE=text/html:<!DOCTYPE HTML PUBLIC "-//W3C//DTD HTML 
 3.2//EN"><HTML><HEAD><TITLE></TITLE></HEAD><BODY>Antrittsvorlesung 
 Prof.&rsquo;in Andrea Klinge<br>Fritz-Haller-Hörsaal, KIT-Fakultät 
 für Architektur, Englerstraße 7, 76131 Karlsruhe <br><br><p>Professur 
 Konstruieren und Entwerfen</p><br></BODY></HTML>
DESCRIPTION: Antrittsvorlesung Prof.’in Andrea
 Klinge\nFritz-Haller-Hörsaal, KIT-Fakultät für Architektur,
 Englerstraße 7, 76131 Karlsruhe \n\n<p>Professur Konstruieren und
 Entwerfen</p>\n
DTSTART;TZID=Europe/Berlin:20260708T190000
DTEND;TZID=Europe/Berlin:20260708T235900
LOCATION:Fritz-Haller-Hörsaal, KIT-Fakultät für Architektur,
 Englerstraße 7, 76131 Karlsruhe 
END:VEVENT
BEGIN:VEVENT
UID: 61522
DTSTAMP:20260423T044141Z
SUMMARY:Reinschauen
X-ALT-DESC;FMTTYPE=text/html:<!DOCTYPE HTML PUBLIC "-//W3C//DTD HTML 
 3.2//EN"><HTML><HEAD><TITLE></TITLE></HEAD><BODY>Reinschauen<br>KIT-Faku 
 ltät für Architektur, Englerstraße 7, 76131 
 Karlsruhe<br><br><p>Jahresausstellung der 
 Fakult&auml;t</p><br></BODY></HTML>
DESCRIPTION: Reinschauen\nKIT-Fakultät für Architektur, Englerstraße
 7, 76131 Karlsruhe\n\n<p>Jahresausstellung der Fakultät</p>\n
DTSTART;TZID=Europe/Berlin:20260715T160000
DTEND;TZID=Europe/Berlin:20260715T235900
LOCATION:KIT-Fakultät für Architektur, Englerstraße 7, 76131
 Karlsruhe
END:VEVENT
BEGIN:VEVENT
UID: 61357
DTSTAMP:20260423T044141Z
SUMMARY:Symposium: Weiterbauen mit Holz – Wertschöpfung durch
 Wiederverwendung
X-ALT-DESC;FMTTYPE=text/html:<!DOCTYPE HTML PUBLIC "-//W3C//DTD HTML 
 3.2//EN"><HTML><HEAD><TITLE></TITLE></HEAD><BODY>Symposium: Weiterbauen 
 mit Holz &ndash; Wertschöpfung durch 
 Wiederverwendung<br>Egon-Eiermann-Hörsaal, KIT-Fakultät für 
 Architektur, Englerstraße 7, 76131 Karlsruhe<br><br></BODY></HTML>
DESCRIPTION: Symposium: Weiterbauen mit Holz – Wertschöpfung durch
 Wiederverwendung\nEgon-Eiermann-Hörsaal, KIT-Fakultät für
 Architektur, Englerstraße 7, 76131 Karlsruhe\n\n
DTSTART;TZID=Europe/Berlin:20260717
DTEND;TZID=Europe/Berlin:20260717T000000
LOCATION:Egon-Eiermann-Hörsaal, KIT-Fakultät für Architektur,
 Englerstraße 7, 76131 Karlsruhe
END:VEVENT
BEGIN:VEVENT
UID: 61520
DTSTAMP:20260423T044141Z
SUMMARY:Abschiedsvorlesung Prof. Steven Craig
X-ALT-DESC;FMTTYPE=text/html:<!DOCTYPE HTML PUBLIC "-//W3C//DTD HTML 
 3.2//EN"><HTML><HEAD><TITLE></TITLE></HEAD><BODY>Abschiedsvorlesung 
 Prof. Steven Craig<br>Fritz-Haller-Hörsaal, KIT-Fakultät für 
 Architektur, Englerstraße 7, 76131 Karlsruhe <br><br><p>Professur 
 Bildende Kunst</p><br></BODY></HTML>
DESCRIPTION: Abschiedsvorlesung Prof. Steven
 Craig\nFritz-Haller-Hörsaal, KIT-Fakultät für Architektur,
 Englerstraße 7, 76131 Karlsruhe \n\n<p>Professur Bildende Kunst</p>\n
DTSTART;TZID=Europe/Berlin:20260722T190000
DTEND;TZID=Europe/Berlin:20260722T235900
LOCATION:Fritz-Haller-Hörsaal, KIT-Fakultät für Architektur,
 Englerstraße 7, 76131 Karlsruhe 
END:VEVENT
BEGIN:VEVENT
UID: 61521
DTSTAMP:20260423T044141Z
SUMMARY:Antrittsvorlesung Prof. Dennis Mueller
X-ALT-DESC;FMTTYPE=text/html:<!DOCTYPE HTML PUBLIC "-//W3C//DTD HTML 
 3.2//EN"><HTML><HEAD><TITLE></TITLE></HEAD><BODY>Antrittsvorlesung Prof. 
 Dennis Mueller<br>Fritz-Haller-Hörsaal, KIT-Fakultät für Architektur, 
 Englerstraße 7, 76131 Karlsruhe <br><br><p>Professur Baukonstruktion 
 und Entwerfen</p><br></BODY></HTML>
DESCRIPTION: Antrittsvorlesung Prof. Dennis
 Mueller\nFritz-Haller-Hörsaal, KIT-Fakultät für Architektur,
 Englerstraße 7, 76131 Karlsruhe \n\n<p>Professur Baukonstruktion und
 Entwerfen</p>\n
DTSTART;TZID=Europe/Berlin:20260729T190000
DTEND;TZID=Europe/Berlin:20260729T235900
LOCATION:Fritz-Haller-Hörsaal, KIT-Fakultät für Architektur,
 Englerstraße 7, 76131 Karlsruhe 
END:VEVENT
END:VCALENDAR
