BEGIN:VCALENDAR
PRODID:Studiengangsentw., Lehr- und Pr&uuml;fungsorg., Studierendenservice
VERSION:2.0
X-WR-CALNAME:Studiengangsentw., Lehr- und Pr&uuml;fungsorg., Studierendenservice
NAME:Studiengangsentw., Lehr- und Pr&uuml;fungsorg., Studierendenservice
REFRESH-INTERVAL;VALUE=DURATION:PT12H
X-PUBLISHED-TTL:PT12H
BEGIN:VTIMEZONE
TZID:Europe/Berlin
TZURL:http://tzurl.org/zoneinfo-outlook/Europe/Berlin
X-LIC-LOCATION:Europe/Berlin
BEGIN:DAYLIGHT
TZOFFSETFROM:+0100
TZOFFSETTO:+0200
TZNAME:CEST
DTSTART:19700329T020000
RRULE:FREQ=YEARLY;BYMONTH=3;BYDAY=-1SU
END:DAYLIGHT
BEGIN:STANDARD
TZOFFSETFROM:+0200
TZOFFSETTO:+0100
TZNAME:CET
DTSTART:19701025T030000
RRULE:FREQ=YEARLY;BYMONTH=10;BYDAY=-1SU
END:STANDARD
END:VTIMEZONE
BEGIN:VEVENT
UID: 60737
DTSTAMP:20260421T195542Z
SUMMARY:Schulung: Leistungskoordination in Campus
X-ALT-DESC;FMTTYPE=text/html:<!DOCTYPE HTML PUBLIC "-//W3C//DTD HTML 
 3.2//EN"><HTML><HEAD><TITLE></TITLE></HEAD><BODY>Schulung: 
 Leistungskoordination in Campus<br>MS Teams<br><br><p>Sie 
 &uuml;bernehmen Aufgaben in der Leistungskoordination?</p><br><br><p> 
 </p><br><br><p>Wir bieten Ihnen unsere Schulung 
 &quot;Leistungskoordination in Campus&quot; an. Dieses Schulungsangebot 
 richtet sich an Personen mit der Rolle&quot; 
 Leistungskoordinator/in&quot;.</p><br><br><p> </p><br><br><p>Wir zeigen 
 Ihnen:</p><br><br><p>- die Verwaltung von 
 Zweitwiederholungen</p><br><br><p>- die An- und Abmeldung von 
 Pr&uuml;fungen in Ausnahmef&auml;llen (z. B. Anmeldungen unter 
 Vorbehalt)</p><br><br><p>- die Anerkennung von Modulen und 
 Teilleistungen</p><br><br><p>- das Umbuchen von 
 Leistungen</p><br><br><p> </p><br><br><p>Die Schulung findet via MS 
 Teams statt. Den Besprechungslink senden wir Ihnen rechtzeitig vor der 
 Veranstaltung zu. Wir empfehlen die Nutzung eines 
 Headsets.</p><br><br><p> </p><br><br><p>Sie ben&ouml;tigen keine 
 Vorkenntnisse und noch keine Systemrolle.</p><br><br><p> 
 </p><br><br><p>Wir freuen uns auf Ihre Teilnahme!</p><br><br><p> 
 </p><br></BODY></HTML>
DESCRIPTION: Schulung: Leistungskoordination in Campus\nMS
 Teams\n\n<p>Sie übernehmen Aufgaben in der
 Leistungskoordination?</p>\n\n<p> </p>\n\n<p>Wir bieten Ihnen unsere
 Schulung "Leistungskoordination in Campus" an. Dieses Schulungsangebot
 richtet sich an Personen mit der Rolle"
 Leistungskoordinator/in".</p>\n\n<p> </p>\n\n<p>Wir zeigen
 Ihnen:</p>\n\n<p>- die Verwaltung von Zweitwiederholungen</p>\n\n<p>-
 die An- und Abmeldung von Prüfungen in Ausnahmefällen (z. B.
 Anmeldungen unter Vorbehalt)</p>\n\n<p>- die Anerkennung von Modulen und
 Teilleistungen</p>\n\n<p>- das Umbuchen von Leistungen</p>\n\n<p>
 </p>\n\n<p>Die Schulung findet via MS Teams statt. Den Besprechungslink
 senden wir Ihnen rechtzeitig vor der Veranstaltung zu. Wir empfehlen die
 Nutzung eines Headsets.</p>\n\n<p> </p>\n\n<p>Sie benötigen keine
 Vorkenntnisse und noch keine Systemrolle.</p>\n\n<p> </p>\n\n<p>Wir
 freuen uns auf Ihre Teilnahme!</p>\n\n<p> </p>\n
DTSTART;TZID=Europe/Berlin:20260422T100000
DTEND;TZID=Europe/Berlin:20260422T120000
LOCATION:MS Teams
END:VEVENT
BEGIN:VEVENT
UID: 61105
DTSTAMP:20260421T195542Z
SUMMARY:Schulung für das CAMPUS Tool "Abschlussarbeiten"
X-ALT-DESC;FMTTYPE=text/html:<!DOCTYPE HTML PUBLIC "-//W3C//DTD HTML 
 3.2//EN"><HTML><HEAD><TITLE></TITLE></HEAD><BODY>Schulung für das 
 CAMPUS Tool "Abschlussarbeiten"<br>MS Teams<br><br><p>F&uuml;r die 
 Rollen Mitarbeiter*in mit Pr&uuml;fungsbearbeiterrechten und 
 Leistungskoordinator*in.</p><br><br><p> </p><br><br><p>Wir zeigen 
 Ihnen:</p><br><br><p> </p><br><br><ul><br>	<li>das Anlegen und 
 Bearbeiten von Abschlussarbeiten  in CAMPUS.</li><br></ul><br><br><p> 
 </p><br><br><p> </p><br><br><p> </p><br><br><p> </p><br><br><p> 
 </p><br><br><p> </p><br></BODY></HTML>
DESCRIPTION: Schulung für das CAMPUS Tool "Abschlussarbeiten"\nMS
 Teams\n\n<p>Für die Rollen Mitarbeiter*in mit
 Prüfungsbearbeiterrechten und Leistungskoordinator*in.</p>\n\n<p>
 </p>\n\n<p>Wir zeigen Ihnen:</p>\n\n<p> </p>\n\n<ul>\n	<li>das Anlegen
 und Bearbeiten von Abschlussarbeiten  in CAMPUS.</li>\n</ul>\n\n<p>
 </p>\n\n<p> </p>\n\n<p> </p>\n\n<p> </p>\n\n<p> </p>\n\n<p> </p>\n
DTSTART;TZID=Europe/Berlin:20260424T110000
DTEND;TZID=Europe/Berlin:20260424T120000
LOCATION:MS Teams
END:VEVENT
BEGIN:VEVENT
UID: 60733
DTSTAMP:20260421T195542Z
SUMMARY:Schulung: Einführung im Studiengangsmanagement
X-ALT-DESC;FMTTYPE=text/html:<!DOCTYPE HTML PUBLIC "-//W3C//DTD HTML 
 3.2//EN"><HTML><HEAD><TITLE></TITLE></HEAD><BODY>Schulung: Einführung 
 im Studiengangsmanagement<br>MS Teams<br><br><p>Sie &uuml;bernehmen 
 Aufgaben in der Modellierung von Modulen und 
 Teilleistungen?</p><br><br><p>Wir bieten Ihnen unser Schulungspaket, 
 bestehend aus den Bausteinen &quot;Einf&uuml;hrung in das 
 Studiengangmanagement&quot; und &quot;Aktualisierungen im 
 Studiengangmanagement&quot; an.</p><br><br><p> </p><br><br><p>Dieses 
 Schulungsangebot richtet sich an Personen mit den Rollen 
 &quot;Mitarbeiter/in mit Modul- und 
 Teilleistungsbearbeitungsrechten&quot; (&quot;Modulbearbeiter&quot;) 
 oder &quot;Modulkoordinator/in&quot;.</p><br><br><p> 
 </p><br><br><p>Dieser Termin ist der 1. Teil,  &quot;Einf&uuml;hrung im 
 Studiengangsmanagement&quot;</p><br></BODY></HTML>
DESCRIPTION: Schulung: Einführung im Studiengangsmanagement\nMS
 Teams\n\n<p>Sie übernehmen Aufgaben in der Modellierung von Modulen und
 Teilleistungen?</p>\n\n<p>Wir bieten Ihnen unser Schulungspaket,
 bestehend aus den Bausteinen "Einführung in das Studiengangmanagement"
 und "Aktualisierungen im Studiengangmanagement" an.</p>\n\n<p>
 </p>\n\n<p>Dieses Schulungsangebot richtet sich an Personen mit den
 Rollen "Mitarbeiter/in mit Modul- und Teilleistungsbearbeitungsrechten"
 ("Modulbearbeiter") oder "Modulkoordinator/in".</p>\n\n<p>
 </p>\n\n<p>Dieser Termin ist der 1. Teil,  "Einführung im
 Studiengangsmanagement"</p>\n
DTSTART;TZID=Europe/Berlin:20260505T100000
DTEND;TZID=Europe/Berlin:20260505T120000
LOCATION:MS Teams
END:VEVENT
BEGIN:VEVENT
UID: 60735
DTSTAMP:20260421T195542Z
SUMMARY:Schulung: Aktualisierungen im Studiengangsmanagement
X-ALT-DESC;FMTTYPE=text/html:<!DOCTYPE HTML PUBLIC "-//W3C//DTD HTML 
 3.2//EN"><HTML><HEAD><TITLE></TITLE></HEAD><BODY>Schulung: 
 Aktualisierungen im Studiengangsmanagement<br>MS Teams<br><br><p>Sie 
 &uuml;bernehmen Aufgaben in der Modellierung von Modulen und 
 Teilleistungen?</p><br><br><p>Wir bieten Ihnen unser Schulungspaket, 
 bestehend aus den Bausteinen &quot;Einf&uuml;hrung in das 
 Studiengangmanagement&quot; und &quot;Aktualisierungen im 
 Studiengangmanagement&quot; an.</p><br><br><p> </p><br><br><p>Dieses 
 Schulungsangebot richtet sich an Personen mit den Rollen 
 &quot;Mitarbeiter/in mit Modul- und 
 Teilleistungsbearbeitungsrechten&quot; (&quot;Modulbearbeiter&quot;) 
 oder &quot;Modulkoordinator/in&quot;.</p><br><br><p> 
 </p><br><br><p>Dieser Termin ist der 2. Teil,  &quot;Aktualisierungen im 
 Studiengangsmanagement&quot;</p><br></BODY></HTML>
DESCRIPTION: Schulung: Aktualisierungen im Studiengangsmanagement\nMS
 Teams\n\n<p>Sie übernehmen Aufgaben in der Modellierung von Modulen und
 Teilleistungen?</p>\n\n<p>Wir bieten Ihnen unser Schulungspaket,
 bestehend aus den Bausteinen "Einführung in das Studiengangmanagement"
 und "Aktualisierungen im Studiengangmanagement" an.</p>\n\n<p>
 </p>\n\n<p>Dieses Schulungsangebot richtet sich an Personen mit den
 Rollen "Mitarbeiter/in mit Modul- und Teilleistungsbearbeitungsrechten"
 ("Modulbearbeiter") oder "Modulkoordinator/in".</p>\n\n<p>
 </p>\n\n<p>Dieser Termin ist der 2. Teil,  "Aktualisierungen im
 Studiengangsmanagement"</p>\n
DTSTART;TZID=Europe/Berlin:20260512T100000
DTEND;TZID=Europe/Berlin:20260512T120000
LOCATION:MS Teams
END:VEVENT
BEGIN:VEVENT
UID: 61102
DTSTAMP:20260421T195542Z
SUMMARY: Schulung über das Prüfungsmanagement in CAS CAMPUS
X-ALT-DESC;FMTTYPE=text/html:<!DOCTYPE HTML PUBLIC "-//W3C//DTD HTML 
 3.2//EN"><HTML><HEAD><TITLE></TITLE></HEAD><BODY> Schulung über das 
 Prüfungsmanagement in CAS CAMPUS<br>MS Teams<br><br><p>F&uuml;r die 
 Rollen Pr&uuml;fungsverantwortliche/r, - bearbeiter/in und - 
 koordinator/in</p><br><br><p> </p><br><br><p>Wir zeigen Ihnen 
 :</p><br><br><p> </p><br><br><ul><br>	<li>das Anlegen, Bearbeiten und 
 Strukturieren von Erfolgskontrollen</li><br>	<li>das Festlegen 
 geeigneter Anmeldeverfahren</li><br>	<li>das An- und Abmelden der 
 Studierenden</li><br>	<li>die Erfassung von 
 Leistungsnachweisen</li><br>	<li>Wiederholungspr&uuml;fungen</li><br>	<l 
 i><br>	<p>den Ablauf m&uuml;ndlicher Nachpr&uuml;fungen nach nicht 
 bestandenem schriftlichem Zweitversuch</p><br>	</li><br></ul><br><br><p> 
 </p><br></BODY></HTML>
DESCRIPTION:  Schulung über das Prüfungsmanagement in CAS CAMPUS\nMS
 Teams\n\n<p>Für die Rollen Prüfungsverantwortliche/r, - bearbeiter/in
 und - koordinator/in</p>\n\n<p> </p>\n\n<p>Wir zeigen Ihnen :</p>\n\n<p>
 </p>\n\n<ul>\n	<li>das Anlegen, Bearbeiten und Strukturieren von
 Erfolgskontrollen</li>\n	<li>das Festlegen geeigneter
 Anmeldeverfahren</li>\n	<li>das An- und Abmelden der
 Studierenden</li>\n	<li>die Erfassung von
 Leistungsnachweisen</li>\n	<li>Wiederholungsprüfungen</li>\n	<li>\n	<p>
 den Ablauf mündlicher Nachprüfungen nach nicht bestandenem
 schriftlichem Zweitversuch</p>\n	</li>\n</ul>\n\n<p> </p>\n
DTSTART;TZID=Europe/Berlin:20260520T100000
DTEND;TZID=Europe/Berlin:20260520T120000
LOCATION:MS Teams
END:VEVENT
BEGIN:VEVENT
UID: 61104
DTSTAMP:20260421T195542Z
SUMMARY:Präsenzveranstaltung: Schulung über das Prüfungsmanagement in CAS
 Campus
X-ALT-DESC;FMTTYPE=text/html:<!DOCTYPE HTML PUBLIC "-//W3C//DTD HTML 
 3.2//EN"><HTML><HEAD><TITLE></TITLE></HEAD><BODY>Präsenzveranstaltung: 
 Schulung über das Prüfungsmanagement in CAS Campus<br>Gebäude 10.12 / 
 Raum 209<br><br><p>F&uuml;r die Rollen Pr&uuml;fungsverantwortliche/r, 
 -bearbeiter/in und -koordinator/in</p><br><br><p> </p><br><br><p>Wir 
 zeigen Ihnen :</p><br><br><p> </p><br><br><ul><br>	<li><br>	<p>das 
 Anlegen, Bearbeiten und Strukturieren von 
 Erfolgskontrollen</p><br>	</li><br>	<li><br>	<p>das Festlegen geeigneter 
 Anmeldeverfahren</p><br>	</li><br>	<li><br>	<p>das An- und Abmelden der 
 Studierenden</p><br>	</li><br>	<li><br>	<p>die Erfassung von 
 Leistungsnachweisen</p><br>	</li><br>	<li><br>	<p>Wiederholungspr&uuml;f 
 ungen</p><br>	</li><br>	<li><br>	<p>den Ablauf m&uuml;ndlicher 
 Nachpr&uuml;fungen nach nicht bestandenem schriftlichem 
 Zweitversuch</p><br>	</li><br></ul><br><br><p> </p><br></BODY></HTML>
DESCRIPTION: Präsenzveranstaltung: Schulung über das
 Prüfungsmanagement in CAS Campus\nGebäude 10.12 / Raum 209\n\n<p>Für
 die Rollen Prüfungsverantwortliche/r, -bearbeiter/in und
 -koordinator/in</p>\n\n<p> </p>\n\n<p>Wir zeigen Ihnen :</p>\n\n<p>
 </p>\n\n<ul>\n	<li>\n	<p>das Anlegen, Bearbeiten und Strukturieren von
 Erfolgskontrollen</p>\n	</li>\n	<li>\n	<p>das Festlegen geeigneter
 Anmeldeverfahren</p>\n	</li>\n	<li>\n	<p>das An- und Abmelden der
 Studierenden</p>\n	</li>\n	<li>\n	<p>die Erfassung von
 Leistungsnachweisen</p>\n	</li>\n	<li>\n	<p>Wiederholungsprüfungen</p>\
 n	</li>\n	<li>\n	<p>den Ablauf mündlicher Nachprüfungen nach nicht
 bestandenem schriftlichem Zweitversuch</p>\n	</li>\n</ul>\n\n<p> </p>\n
DTSTART;TZID=Europe/Berlin:20260617T100000
DTEND;TZID=Europe/Berlin:20260617T123000
LOCATION:Gebäude 10.12 / Raum 209
END:VEVENT
BEGIN:VEVENT
UID: 60738
DTSTAMP:20260421T195542Z
SUMMARY:Schulung: Leistungskoordination in Campus
X-ALT-DESC;FMTTYPE=text/html:<!DOCTYPE HTML PUBLIC "-//W3C//DTD HTML 
 3.2//EN"><HTML><HEAD><TITLE></TITLE></HEAD><BODY>Schulung: 
 Leistungskoordination in Campus<br>MS Teams<br><br><p>Sie 
 &uuml;bernehmen Aufgaben in der Leistungskoordination?</p><br><br><p> 
 </p><br><br><p>Wir bieten Ihnen unsere Schulung 
 &quot;Leistungskoordination in Campus&quot; an. Dieses Schulungsangebot 
 richtet sich an Personen mit der Rolle&quot; 
 Leistungskoordinator/in&quot;.</p><br><br><p> </p><br><br><p>Wir zeigen 
 Ihnen:</p><br><br><p>- die Verwaltung von 
 Zweitwiederholungen</p><br><br><p>- die An- und Abmeldung von 
 Pr&uuml;fungen in Ausnahmef&auml;llen (z. B. Anmeldungen unter 
 Vorbehalt)</p><br><br><p>- die Anerkennung von Modulen und 
 Teilleistungen</p><br><br><p>- das Umbuchen von 
 Leistungen</p><br><br><p> </p><br><br><p>Die Schulung findet via MS 
 Teams statt. Den Besprechungslink senden wir Ihnen rechtzeitig vor der 
 Veranstaltung zu. Wir empfehlen die Nutzung eines 
 Headsets.</p><br><br><p> </p><br><br><p>Sie ben&ouml;tigen keine 
 Vorkenntnisse und noch keine Systemrolle.</p><br><br><p> 
 </p><br><br><p>Wir freuen uns auf Ihre Teilnahme!</p><br><br><p> 
 </p><br></BODY></HTML>
DESCRIPTION: Schulung: Leistungskoordination in Campus\nMS
 Teams\n\n<p>Sie übernehmen Aufgaben in der
 Leistungskoordination?</p>\n\n<p> </p>\n\n<p>Wir bieten Ihnen unsere
 Schulung "Leistungskoordination in Campus" an. Dieses Schulungsangebot
 richtet sich an Personen mit der Rolle"
 Leistungskoordinator/in".</p>\n\n<p> </p>\n\n<p>Wir zeigen
 Ihnen:</p>\n\n<p>- die Verwaltung von Zweitwiederholungen</p>\n\n<p>-
 die An- und Abmeldung von Prüfungen in Ausnahmefällen (z. B.
 Anmeldungen unter Vorbehalt)</p>\n\n<p>- die Anerkennung von Modulen und
 Teilleistungen</p>\n\n<p>- das Umbuchen von Leistungen</p>\n\n<p>
 </p>\n\n<p>Die Schulung findet via MS Teams statt. Den Besprechungslink
 senden wir Ihnen rechtzeitig vor der Veranstaltung zu. Wir empfehlen die
 Nutzung eines Headsets.</p>\n\n<p> </p>\n\n<p>Sie benötigen keine
 Vorkenntnisse und noch keine Systemrolle.</p>\n\n<p> </p>\n\n<p>Wir
 freuen uns auf Ihre Teilnahme!</p>\n\n<p> </p>\n
DTSTART;TZID=Europe/Berlin:20260624T100000
DTEND;TZID=Europe/Berlin:20260624T120000
LOCATION:MS Teams
END:VEVENT
BEGIN:VEVENT
UID: 54938
DTSTAMP:20260421T195542Z
SUMMARY:TERMIN NACH ABSPRACHE: Schulungspaket "Einführung in das
 Studiengangmanagement" und "Aktualisierungen im Studiengangmanagement"
X-ALT-DESC;FMTTYPE=text/html:<!DOCTYPE HTML PUBLIC "-//W3C//DTD HTML 
 3.2//EN"><HTML><HEAD><TITLE></TITLE></HEAD><BODY>TERMIN NACH ABSPRACHE: 
 Schulungspaket "Einführung in das Studiengangmanagement" und 
 "Aktualisierungen im Studiengangmanagement"<br>Nach Absprache: MS Teams 
 oder in Präsenz<br><br><p>Sie &uuml;bernehmen Aufgaben in der 
 Modellierung von Modulen und Teilleistungen? Wir bieten Ihnen unser 
 Schulungspaket, bestehend aus den Bausteinen &quot;Einf&uuml;hrung in 
 das Studiengangmanagement&quot; und &quot;Aktualisierungen im 
 Studiengangmanagement&quot; an. Dieses Schulungsangebot richtet sich an 
 Personen mit den Rollen &quot;Mitarbeiter/in mit Modul- und 
 Teilleistungsbearbeitungsrechten&quot; (&quot;Modulbearbeiter&quot;) 
 oder &quot;Modulkoordinator/in&quot;.</p><br><br><p> 
 </p><br><br><p>Melden Sie gerne Ihren Bedarf an 
 <strong>campusteam@sle.kit.edu</strong> und wir finden mit Ihnen 
 gemeinsam einen geeigneten Termin</p><br></BODY></HTML>
DESCRIPTION: TERMIN NACH ABSPRACHE: Schulungspaket "Einführung in das
 Studiengangmanagement" und "Aktualisierungen im
 Studiengangmanagement"\nNach Absprache: MS Teams oder in
 Präsenz\n\n<p>Sie übernehmen Aufgaben in der Modellierung von Modulen
 und Teilleistungen? Wir bieten Ihnen unser Schulungspaket, bestehend aus
 den Bausteinen "Einführung in das Studiengangmanagement" und
 "Aktualisierungen im Studiengangmanagement" an. Dieses Schulungsangebot
 richtet sich an Personen mit den Rollen "Mitarbeiter/in mit Modul- und
 Teilleistungsbearbeitungsrechten" ("Modulbearbeiter") oder
 "Modulkoordinator/in".</p>\n\n<p> </p>\n\n<p>Melden Sie gerne Ihren
 Bedarf an <strong>campusteam@sle.kit.edu</strong> und wir finden mit
 Ihnen gemeinsam einen geeigneten Termin</p>\n
DTSTART;TZID=Europe/Berlin:20261231
DTEND;TZID=Europe/Berlin:20261231T000000
LOCATION:Nach Absprache: MS Teams oder in Präsenz
END:VEVENT
BEGIN:VEVENT
UID: 60271
DTSTAMP:20260421T195542Z
SUMMARY:TERMIN NACH ABSPRACHE: Schulung "CAS Campus für das Prüfungsmanagement
 oder für das Abschlussarbeiten-Tool"
X-ALT-DESC;FMTTYPE=text/html:<!DOCTYPE HTML PUBLIC "-//W3C//DTD HTML 
 3.2//EN"><HTML><HEAD><TITLE></TITLE></HEAD><BODY>TERMIN NACH ABSPRACHE: 
 Schulung "CAS Campus für das Prüfungsmanagement oder für das 
 Abschlussarbeiten-Tool"<br>Nach Absprache: MS Teams oder in 
 Präsenz<br><br><p>Schulung Pr&uuml;fungsmanagement: Anlegen und 
 Bearbeiten von Erfolgskontrollen und Studienleistungen</p><br><br><p> 
 </p><br><br><p>Schulung Abschlussarbeiten: Anlegen und Bearbeiten von 
 Abschlussarbeiten  im CAS CAMPUS-Tool.</p><br><br><p> 
 </p><br><br><p>Melden Sie gerne Ihren Bedarf an 
 <strong>campusteam&part;sle kit edu</strong> und wir finden mit Ihnen 
 gemeinsam einen geeigneten Termin.</p><br><br><p> </p><br><br><p> 
 </p><br><br><p> </p><br></BODY></HTML>
DESCRIPTION: TERMIN NACH ABSPRACHE: Schulung "CAS Campus für das
 Prüfungsmanagement oder für das Abschlussarbeiten-Tool"\nNach
 Absprache: MS Teams oder in Präsenz\n\n<p>Schulung Prüfungsmanagement:
 Anlegen und Bearbeiten von Erfolgskontrollen und
 Studienleistungen</p>\n\n<p> </p>\n\n<p>Schulung Abschlussarbeiten:
 Anlegen und Bearbeiten von Abschlussarbeiten  im CAS
 CAMPUS-Tool.</p>\n\n<p> </p>\n\n<p>Melden Sie gerne Ihren Bedarf an
 <strong>campusteam∂sle kit edu</strong> und wir finden mit Ihnen
 gemeinsam einen geeigneten Termin.</p>\n\n<p> </p>\n\n<p> </p>\n\n<p>
 </p>\n
DTSTART;TZID=Europe/Berlin:20261231
DTEND;TZID=Europe/Berlin:20261231T000000
LOCATION:Nach Absprache: MS Teams oder in Präsenz
END:VEVENT
END:VCALENDAR
